BEGIN:VCALENDAR
VERSION:2.0
PRODID:-//ChamberMaster//Event Calendar 2.0//EN
METHOD:PUBLISH
X-PUBLISHED-TTL:P3D
REFRESH-INTERVAL:P3D
CALSCALE:GREGORIAN
BEGIN:VEVENT
DTSTART:20100924T160000Z
DTEND:20100924T160000Z
X-MICROSOFT-CDO-ALLDAYEVENT:FALSE
SUMMARY:LEADERSHIP DEVELOPMENT COMMITTEE MEETING - 09/24/2010
DESCRIPTION:MEMO: Leadership Development Committee FROM: Bob Cain\, Chairman SUBJECT: LEADERSHIP DEVELOPMENT COMMITTEE MEETING \n DATE: Friday September 24\, 2010\n TIME: 9:00 am \n PLACE: League Office AGENDA: 1. Conflict of Interest Statement\n 2. Mission Statement\n 3. Working group session on Associate   Builder presentation \n a. Land Development Presentation\n b. Active working session over projector\n 4. Discussion of educational seminar (speaker)\n 5. Discussion of Leadership Development Mixer\n a. Builders and Associates\n 6. Discussion of ways to lead by improving communication within our association\n a. Associates to Builders\n b. Builders to Associates\n c. Value added HBA services\n 7. BPAC News\n 8. New/Old Business\n 9. Meeting Adjourned \n Remote Conference Call Number:\n 1-605-715-4970 \n Guest Code: 317212#
X-ALT-DESC;FMTTYPE=text/html:<p>MEMO: Leadership Development Committee</p> <p>FROM: Bob Cain\, Chairman</p> <p>SUBJECT: LEADERSHIP DEVELOPMENT COMMITTEE MEETING <br /> DATE: Friday September 24\, 2010<br /> TIME: 9:00 am <br /> PLACE: League Office</p> <p>AGENDA:</p> <p>1. Conflict of Interest Statement<br /> 2. Mission Statement<br /> 3. Working group session on Associate &ndash\; Builder presentation <br /> a. Land Development Presentation<br /> b. Active working session over projector<br /> 4. Discussion of educational seminar (speaker)<br /> 5. Discussion of Leadership Development Mixer<br /> a. Builders and Associates<br /> 6. Discussion of ways to lead by improving communication within our association<br /> a. Associates to Builders<br /> b. Builders to Associates<br /> c. Value added HBA services<br /> 7. BPAC News<br /> 8. New/Old Business<br /> 9. Meeting Adjourned</p> <p><br /> Remote Conference Call Number:<br /> 1-605-715-4970 <br /> Guest Code: 317212# <br /> &nbsp\;</p>
LOCATION:114 Haddontowne Court Cherry Hill\, NJ 08034
UID:e.9292.1207
SEQUENCE:3
DTSTAMP:20260421T092854Z
URL:https://members.blsj.com/events/details/leadership-development-committee-meeting-09-24-2010-09-24-2010-1207
END:VEVENT

END:VCALENDAR
