BEGIN:VCALENDAR
VERSION:2.0
PRODID:-//ChamberMaster//Event Calendar 2.0//EN
METHOD:PUBLISH
X-PUBLISHED-TTL:P3D
REFRESH-INTERVAL:P3D
CALSCALE:GREGORIAN
BEGIN:VEVENT
DTSTART:20090722T160000Z
DTEND:20090722T160000Z
X-MICROSOFT-CDO-ALLDAYEVENT:FALSE
SUMMARY:Leadership Development Committee Meeting - 07/22/2009
DESCRIPTION:From: Robert Cain\, Chairman\n \n To: Leadership Development Committee\n \n Re: Leadership Development Committee Meeting\n \n Date: Wednesday\, July 22\, 2009\n \n Time: Noon Location: Builders League Office \n Agenda:\n \n Noon -12:15 Intro\n                   Conflict of Interest Statement\n                   BLSJ Mission Statement 12:15 -1:00- Legislation   Stimulus specific legislation\;  Permit Extension\;  55+ legislation: Speaker Gary Forshner\, Esq. - Stark & Stark 1:00 - 1:45- Green Building presentation: Speaker Vince Mangini\, Esq. - Stark & Stark\n \n                           Old Business/New Business 1:45 - 2:00 - Meeting Conclusion\n \n Next Meeting:  TBD
X-ALT-DESC;FMTTYPE=text/html:<p>From: Robert Cain\, Chairman<br /> <br /> To: Leadership Development Committee<br /> <br /> Re: Leadership Development Committee Meeting<br /> <br /> Date: Wednesday\, July 22\, 2009<br /> <br /> Time: Noon</p> <p>Location: Builders League Office</p> <p><br /> Agenda:<br /> <br /> Noon -12:15 Intro<br /> &nbsp\;&nbsp\;&nbsp\;&nbsp\;&nbsp\;&nbsp\;&nbsp\;&nbsp\;&nbsp\;&nbsp\;&nbsp\;&nbsp\;&nbsp\;&nbsp\;&nbsp\;&nbsp\;&nbsp\; Conflict of Interest Statement<br /> &nbsp\;&nbsp\;&nbsp\;&nbsp\;&nbsp\;&nbsp\;&nbsp\;&nbsp\;&nbsp\;&nbsp\;&nbsp\;&nbsp\;&nbsp\;&nbsp\;&nbsp\;&nbsp\;&nbsp\; BLSJ Mission Statement</p> <p>12:15 -1:00- Legislation &ndash\; Stimulus specific legislation\; &nbsp\;Permit Extension\;&nbsp\; 55+ legislation: Speaker Gary Forshner\, Esq. - Stark &amp\; Stark</p> <p>1:00 - 1:45- Green Building presentation: Speaker Vince Mangini\, Esq. - Stark &amp\; Stark<br /> <br /> &nbsp\;&nbsp\;&nbsp\;&nbsp\;&nbsp\;&nbsp\;&nbsp\;&nbsp\;&nbsp\;&nbsp\;&nbsp\;&nbsp\;&nbsp\;&nbsp\;&nbsp\;&nbsp\;&nbsp\;&nbsp\;&nbsp\;&nbsp\;&nbsp\;&nbsp\;&nbsp\;&nbsp\;&nbsp\; Old Business/New Business</p> <p>1:45 - 2:00 - Meeting Conclusion<br /> <br /> Next Meeting:&nbsp\;&nbsp\;TBD</p> <p><br /> &nbsp\;</p>
LOCATION:114 Haddontowne Ct Cherry Hill\, NJ 08034
UID:e.9292.1206
SEQUENCE:3
DTSTAMP:20260422T064526Z
URL:https://members.blsj.com/events/details/leadership-development-committee-meeting-07-22-2009-07-22-2009-1206
END:VEVENT

END:VCALENDAR
