BEGIN:VCALENDAR
VERSION:2.0
PRODID:-//ChamberMaster//Event Calendar 2.0//EN
METHOD:PUBLISH
X-PUBLISHED-TTL:P3D
REFRESH-INTERVAL:P3D
CALSCALE:GREGORIAN
BEGIN:VEVENT
DTSTART:20100618T160000Z
DTEND:20100618T160000Z
X-MICROSOFT-CDO-ALLDAYEVENT:FALSE
SUMMARY:LEADERSHIP DEVELOPMENT COMMITTEE MEETING - 06/18/2010
DESCRIPTION:General meeting
X-ALT-DESC;FMTTYPE=text/html:<p>General meeting</p>
LOCATION:114 Haddontowne Court Cherry Hill\, NJ 08034
UID:e.9292.331
SEQUENCE:3
DTSTAMP:20260421T132427Z
URL:https://members.blsj.com/events/details/leadership-development-committee-meeting-06-18-2010-06-18-2010-331
END:VEVENT

END:VCALENDAR
