BEGIN:VCALENDAR
VERSION:2.0
PRODID:-//ChamberMaster//Event Calendar 2.0//EN
METHOD:PUBLISH
X-PUBLISHED-TTL:P3D
REFRESH-INTERVAL:P3D
CALSCALE:GREGORIAN
BEGIN:VEVENT
DTSTART:20100219T170000Z
DTEND:20100219T170000Z
X-MICROSOFT-CDO-ALLDAYEVENT:FALSE
SUMMARY:LEADERSHIP DEVELOPMENT COMMITTEE MEETING - 02/19/2010
DESCRIPTION:FROM: Bob Cain\, Chairman SUBJECT: Leadership Development Committee DATE: Friday February 19\, 2009 TIME: 9am PLACE: League Office   Agenda:   1. Conflict of Interest Statement 2. Mission Statement 3. Discussion of all BLSJ acting roles and supporting documentation. a. Delegation of documentation improvement based on updated roles and responsibilities 4. Discussion of all BLSJ Committees and the initial planning of a committee round table to increase membership participation. 5. Initial discussion of Land Acquisition and Development Process 6. Seminar calendar for 2010 a. Association Maximization- Bob Cain   Scheduled for March 19th at League Office b. Build PAC Presentation - Jason Schaeffer (TBD) c. Financial Planning and Insurance needs- Richard Lynch (TBD) 7. New/Old Business 8. Meeting adjourned
X-ALT-DESC;FMTTYPE=text/html:<p>FROM: Bob Cain\, Chairman</p> <p>SUBJECT: Leadership Development Committee</p> <p>DATE: Friday February 19\, 2009</p> <p>TIME: 9am</p> <p>PLACE: League Office</p> <p>&nbsp\;</p> <p>Agenda:</p> <p>&nbsp\;</p> <p>1. Conflict of Interest Statement</p> <p>2. Mission Statement</p> <p>3. Discussion of all BLSJ acting roles and supporting documentation.</p> <p>a. Delegation of documentation improvement based on updated roles and responsibilities</p> <p>4. Discussion of all BLSJ Committees and the initial planning of a committee round table to increase membership participation.</p> <p>5. Initial discussion of Land Acquisition and Development Process</p> <p>6. Seminar calendar for 2010</p> <p>a. Association Maximization- Bob Cain &ndash\; Scheduled for March 19th at League Office</p> <p>b. Build PAC Presentation - Jason Schaeffer (TBD)</p> <p>c. Financial Planning and Insurance needs- Richard Lynch (TBD)</p> <p>7. New/Old Business</p> <p>8. Meeting adjourned</p> <p>&nbsp\;</p>
LOCATION:114 Haddontowne Court Cherry Hill\, NJ 08034
UID:e.9292.330
SEQUENCE:3
DTSTAMP:20260421T210511Z
URL:https://members.blsj.com/events/details/leadership-development-committee-meeting-02-19-2010-02-19-2010-330
END:VEVENT

END:VCALENDAR
