BEGIN:VCALENDAR
VERSION:2.0
PRODID:-//ChamberMaster//Event Calendar 2.0//EN
METHOD:PUBLISH
X-PUBLISHED-TTL:P3D
REFRESH-INTERVAL:P3D
CALSCALE:GREGORIAN
BEGIN:VEVENT
DTSTART:20061215T230000Z
DTEND:20061215T230000Z
X-MICROSOFT-CDO-ALLDAYEVENT:FALSE
SUMMARY:LEADERSHIP DEVELOPMENT COMMITTEE - 12/15/2006
DESCRIPTION:This group seeks to identify the new leaders of the industry. As with any subcommittee\, a main objective will be creating an opportunity for other young builders and associates with similar experiences and interests to meet as a peer group. By having a venue to share\, discuss\, and exchange ideas and experiences\, it allows members to form a tighter bond as rising leaders in the housing industry.
X-ALT-DESC;FMTTYPE=text/html:This group seeks to identify the new leaders of the industry. As with any subcommittee\, a main objective will be creating an opportunity for other young builders and associates with similar experiences and interests to meet as a peer group. By having a venue to share\, discuss\, and exchange ideas and experiences\, it allows members to form a tighter bond as rising leaders in the housing industry.
LOCATION:Builders League of South Jersey Cherry Hill\, NJ 08034
UID:e.9292.328
SEQUENCE:3
DTSTAMP:20260422T023108Z
URL:https://members.blsj.com/events/details/leadership-development-committee-12-15-2006-12-15-2006-328
END:VEVENT

END:VCALENDAR
