BEGIN:VCALENDAR
VERSION:2.0
PRODID:-//ChamberMaster//Event Calendar 2.0//EN
METHOD:PUBLISH
X-PUBLISHED-TTL:P3D
REFRESH-INTERVAL:P3D
CALSCALE:GREGORIAN
BEGIN:VEVENT
DTSTART:20060616T220000Z
DTEND:20060616T220000Z
X-MICROSOFT-CDO-ALLDAYEVENT:FALSE
SUMMARY:LEADERSHIP DEVELOPMENT COMMITTEE - 06/16/2006
DESCRIPTION:Leadership Committee - June 16\, 2006  Seminar Speaker: Mark Maggi  Agenda:  1)   Introduction of Mark Maggi & topic for discussion  2)   Investment Portfolio Seminar/Discussion  3)   Committee Reports a.   Who has been attending meetings b.   Who will be attending upcoming meetings  4)   Discuss possible future seminar topics for the fall  This group seeks to identify the new leaders of the industry. As with any subcommittee\, a main objective will be creating an opportunity for other young builders and associates with similar experiences and interests to meet as a peer group.  By having a venue to share\, discuss\, and exchange ideas and experiences\, it allows members to form a tighter bond as rising leaders in the housing industry.  Speaker: MArk Maggi\, Mass Mutual
X-ALT-DESC;FMTTYPE=text/html:Leadership Committee - June 16\, 2006  Seminar Speaker: Mark Maggi  Agenda:  1)   Introduction of Mark Maggi & topic for discussion  2)   Investment Portfolio Seminar/Discussion  3)   Committee Reports a.   Who has been attending meetings b.   Who will be attending upcoming meetings  4)   Discuss possible future seminar topics for the fall  This group seeks to identify the new leaders of the industry. As with any subcommittee\, a main objective will be creating an opportunity for other young builders and associates with similar experiences and interests to meet as a peer group.  By having a venue to share\, discuss\, and exchange ideas and experiences\, it allows members to form a tighter bond as rising leaders in the housing industry.  Speaker: MArk Maggi\, Mass Mutual 
LOCATION:Builders League of South Jersey Cherry Hill\, NJ 08034
UID:e.9292.1204
SEQUENCE:3
DTSTAMP:20260421T182747Z
URL:https://members.blsj.com/events/details/leadership-development-committee-06-16-2006-06-16-2006-1204
END:VEVENT

END:VCALENDAR
