BEGIN:VCALENDAR
VERSION:2.0
PRODID:-//ChamberMaster//Event Calendar 2.0//EN
METHOD:PUBLISH
X-PUBLISHED-TTL:P3D
REFRESH-INTERVAL:P3D
CALSCALE:GREGORIAN
BEGIN:VEVENT
DTSTART:20070316T220000Z
DTEND:20070316T220000Z
X-MICROSOFT-CDO-ALLDAYEVENT:FALSE
SUMMARY:Leadership Developement Committee - 03/16/2007
DESCRIPTION:Presentation by Sandy Spadaro\, SS Marketing Solutions
X-ALT-DESC;FMTTYPE=text/html:Presentation by Sandy Spadaro\, SS Marketing Solutions
LOCATION:BLSJ Cherry Hill\, NJ 08034
UID:e.9292.321
SEQUENCE:3
DTSTAMP:20260422T074813Z
URL:https://members.blsj.com/events/details/leadership-developement-committee-03-16-2007-03-16-2007-321
END:VEVENT

END:VCALENDAR
