BEGIN:VCALENDAR
VERSION:2.0
PRODID:-//ChamberMaster//Event Calendar 2.0//EN
METHOD:PUBLISH
X-PUBLISHED-TTL:P3D
REFRESH-INTERVAL:P3D
CALSCALE:GREGORIAN
BEGIN:VEVENT
DTSTART:20070216T230000Z
DTEND:20070216T230000Z
X-MICROSOFT-CDO-ALLDAYEVENT:FALSE
SUMMARY:Leadership Developement Committee - 02/16/2007
DESCRIPTION:Presentation by Pete Haran - Strategic Plan
X-ALT-DESC;FMTTYPE=text/html:Presentation by Pete Haran - Strategic Plan
LOCATION:BLSJ Cherry Hill\, NJ 08034
UID:e.9292.995
SEQUENCE:3
DTSTAMP:20260422T064257Z
URL:https://members.blsj.com/events/details/leadership-developement-committee-02-16-2007-02-16-2007-995
END:VEVENT

END:VCALENDAR
