BEGIN:VCALENDAR
VERSION:2.0
PRODID:-//ChamberMaster//Event Calendar 2.0//EN
METHOD:PUBLISH
X-PUBLISHED-TTL:P3D
REFRESH-INTERVAL:P3D
CALSCALE:GREGORIAN
BEGIN:VEVENT
DTSTART:20050317T230000Z
DTEND:20050317T230000Z
X-MICROSOFT-CDO-ALLDAYEVENT:FALSE
SUMMARY:Latest Trends in Condemnation Laws - Postponed
DESCRIPTION:Speakers: David Brandt\, Esq. and Drew Kapur\, Esq. - Ballard Spahr
X-ALT-DESC;FMTTYPE=text/html:Speakers: David Brandt\, Esq. and Drew Kapur\, Esq. - Ballard Spahr
LOCATION:BLSJ Cherry Hill\, NJ 08034
UID:e.9292.720
SEQUENCE:3
DTSTAMP:20260420T221935Z
URL:https://members.blsj.com/events/details/latest-trends-in-condemnation-laws-postponed-03-17-2005-720
END:VEVENT

END:VCALENDAR
