BEGIN:VCALENDAR
VERSION:2.0
PRODID:-//ChamberMaster//Event Calendar 2.0//EN
METHOD:PUBLISH
X-PUBLISHED-TTL:P3D
REFRESH-INTERVAL:P3D
CALSCALE:GREGORIAN
BEGIN:VEVENT
DTSTART:20050916T220000Z
DTEND:20050916T160000Z
X-MICROSOFT-CDO-ALLDAYEVENT:FALSE
SUMMARY:Latest Insurance Health Care Plans for Your Company Seminar-CANCE
DESCRIPTION:Come see the latest Health Insurance Plans for your Company to help save on your premiums.  Both Aetna and AmeriHealth have recently had new plan designs approved by the Department of Banking and Insurance for sale July 1st  which could help you lower the cost of health insurance.                This seminar is presented by Doug Lubenow\, President of the Lubenow Agency in Moorestown\, NJ.  Presenting the Aetna plans will be Nancy DiJohn\, sales manager for southern NJ and presenting for AmeriHealth will be Wendy Ebner\, sales manager for AmeriHealth.  These exciting new plans will give you more options for controlling the rising cost of Health Insurance.
X-ALT-DESC;FMTTYPE=text/html: Come see the latest Health Insurance Plans for your Company to help save on your premiums.  Both Aetna and AmeriHealth have recently had new plan designs approved by the Department of Banking and Insurance for sale July 1st  which could help you lower the cost of health insurance.                This seminar is presented by Doug Lubenow\, President of the Lubenow Agency in Moorestown\, NJ.  Presenting the Aetna plans will be Nancy DiJohn\, sales manager for southern NJ and presenting for AmeriHealth will be Wendy Ebner\, sales manager for AmeriHealth.  These exciting new plans will give you more options for controlling the rising cost of Health Insurance.  
LOCATION:Builders League of South Jersey Cherry Hill\, NJ 08034
UID:e.9292.1212
SEQUENCE:3
DTSTAMP:20260421T055821Z
URL:https://members.blsj.com/events/details/latest-insurance-health-care-plans-for-your-company-seminar-cance-09-16-2005-1212
END:VEVENT

END:VCALENDAR
