BEGIN:VCALENDAR
VERSION:2.0
PRODID:-//ChamberMaster//Event Calendar 2.0//EN
METHOD:PUBLISH
X-PUBLISHED-TTL:P3D
REFRESH-INTERVAL:P3D
CALSCALE:GREGORIAN
BEGIN:VEVENT
DTSTART:20060621T160000Z
DTEND:20060621T160000Z
X-MICROSOFT-CDO-ALLDAYEVENT:FALSE
SUMMARY:JUNE GOLF OUTING: VINEYARD GOLF at RENAULT WINERY
DESCRIPTION:After months of careful planning and having the avid golfer in mind\, Renault Resort is ready to open its one-of-a-kind golf course. From the beginning\, the owners of Renault Resort wanted a course unique to South Jersey nestled in between its award winning restaurant and winery.  While you play enjoy majestic views of the Renault vineyards and orchards as it winds subtly through the pinelands of South Jersey. The unique championship golf course measures over 7\,000 yards.  Play the strategic elements that offer risk and reward opportunities on every hole.  This course will challenge the best player\, while welcoming the higher handicap golfer. The original design accentuates the natural terrain\, with the course seamlessly blending into the vineyards and orchards. Meticulously maintained tees\, fairways\, green and ponds will accentuate the high quality of Renault craftsmanship.  Outing will include wine tasting at the Renault Winery.  Call League office for pricing information
X-ALT-DESC;FMTTYPE=text/html:After months of careful planning and having the avid golfer in mind\, Renault Resort is ready to open its one-of-a-kind golf course. From the beginning\, the owners of Renault Resort wanted a course unique to South Jersey nestled in between its award winning restaurant and winery.  While you play enjoy majestic views of the Renault vineyards and orchards as it winds subtly through the pinelands of South Jersey. The unique championship golf course measures over 7\,000 yards.  Play the strategic elements that offer risk and reward opportunities on every hole.  This course will challenge the best player\, while welcoming the higher handicap golfer. The original design accentuates the natural terrain\, with the course seamlessly blending into the vineyards and orchards. Meticulously maintained tees\, fairways\, green and ponds will accentuate the high quality of Renault craftsmanship.  Outing will include wine tasting at the Renault Winery.  Call League office for pricing information
LOCATION:Vineyard Golf 72 N. Bremen Avenue Egg Harbor/Galloway\, NJ 08215
UID:e.9292.1211
SEQUENCE:3
DTSTAMP:20260421T193922Z
URL:https://members.blsj.com/events/details/june-golf-outing-vineyard-golf-at-renault-winery-06-21-2006-1211
END:VEVENT

END:VCALENDAR
