BEGIN:VCALENDAR
VERSION:2.0
PRODID:-//ChamberMaster//Event Calendar 2.0//EN
METHOD:PUBLISH
X-PUBLISHED-TTL:P3D
REFRESH-INTERVAL:P3D
CALSCALE:GREGORIAN
BEGIN:VEVENT
DTSTART:20050615T160000Z
DTEND:20050615T160000Z
X-MICROSOFT-CDO-ALLDAYEVENT:FALSE
SUMMARY:June Golf Outing-Ramblewood Country Club-DINNER ONLY
DESCRIPTION:The 55th Annual Summer Golf Outing - Ramblewood Country Club  Great Networking Opportunity in a relaxed atmosphere Great Bonus for your staff - Employee Appreciation 2 Hour open Bar New Dinner Menu-You will absolutely love Even if you don't play golf\, join us for dinner at this exciting\, fun event.   A  great chance to sit by the pool & socialize with folks you haven't seen in awhile...     Ramblewood has been a BLSJ tradition for 55 years - be a part of the history     An Event sure to be talked about for months - Don't Miss it!!!
X-ALT-DESC;FMTTYPE=text/html:The 55th Annual Summer Golf Outing - Ramblewood Country Club  Great Networking Opportunity in a relaxed atmosphere Great Bonus for your staff - Employee Appreciation 2 Hour open Bar New Dinner Menu-You will absolutely love Even if you don't play golf\, join us for dinner at this exciting\, fun event.   A  great chance to sit by the pool & socialize with folks you haven't seen in awhile...     Ramblewood has been a BLSJ tradition for 55 years - be a part of the history     An Event sure to be talked about for months - Don't Miss it!!!   
LOCATION:Ramblewood Country Club Mt. Laurel\, NJ 08053
UID:e.9292.993
SEQUENCE:3
DTSTAMP:20260421T020836Z
URL:https://members.blsj.com/events/details/june-golf-outing-ramblewood-country-club-dinner-only-06-15-2005-993
END:VEVENT

END:VCALENDAR
