BEGIN:VCALENDAR
VERSION:2.0
PRODID:-//ChamberMaster//Event Calendar 2.0//EN
METHOD:PUBLISH
X-PUBLISHED-TTL:P3D
REFRESH-INTERVAL:P3D
CALSCALE:GREGORIAN
BEGIN:VEVENT
DTSTART:20050615T220000Z
DTEND:20050615T160000Z
X-MICROSOFT-CDO-ALLDAYEVENT:FALSE
SUMMARY:June Golf Outing-Ramblewood Country Club-AFTERNOON SHOTGUN
DESCRIPTION:The 55th Annual Summer Golf Outing - Ramblewood Country Club RAIN OR SHINE  Ramblewood Country Club 200 Country Club Parkway Mt. Laurel\, NJ  Schedule of Events  7:00 a.m. Registration for Morning Shotgun/ Coffee & Danish  7:30 a.m.  MorningShotgun Scramble Start  11:00 a.m. Registration for Afternoon Shotgun               Lunch on Patio  12:30 p.m. Afternoon Shotgun Scramble Start        5:00 p.m. - 7:00 p.m.   Open Bar  5:30 p.m.  -  Dinner and Awards Presentation  Ramblewood Country Club offers a renowned and challenging 27- hole Championship golf course. The three nine hole courses will put your woods and irons to the crucial test among long driving fairways and smooth putting greens.       Great Networking Opportunity in a relaxed atmosphere Great Bonus for your staff - Employee Appreciation 2 Hour open Bar New Dinner Menu-You will absolutely love Even if you don't play golf\, join us for dinner at this exciting\, fun event.   A  great chance to sit by the pool & socialize with folks you haven't seen in awhile...      Ramblewood has been a BLSJ tradition for 55 years - be a part of the history     An Event sure to be talked about for months - Don't Miss it!!!
X-ALT-DESC;FMTTYPE=text/html:The 55th Annual Summer Golf Outing - Ramblewood Country Club RAIN OR SHINE  Ramblewood Country Club 200 Country Club Parkway Mt. Laurel\, NJ  Schedule of Events  7:00 a.m. Registration for Morning Shotgun/ Coffee & Danish  7:30 a.m.  MorningShotgun Scramble Start  11:00 a.m. Registration for Afternoon Shotgun               Lunch on Patio  12:30 p.m. Afternoon Shotgun Scramble Start        5:00 p.m. - 7:00 p.m.   Open Bar  5:30 p.m.  -  Dinner and Awards Presentation  Ramblewood Country Club offers a renowned and challenging 27- hole Championship golf course. The three nine hole courses will put your woods and irons to the crucial test among long driving fairways and smooth putting greens.       Great Networking Opportunity in a relaxed atmosphere Great Bonus for your staff - Employee Appreciation 2 Hour open Bar New Dinner Menu-You will absolutely love Even if you don't play golf\, join us for dinner at this exciting\, fun event.   A  great chance to sit by the pool & socialize with folks you haven't seen in awhile...      Ramblewood has been a BLSJ tradition for 55 years - be a part of the history     An Event sure to be talked about for months - Don't Miss it!!!   
LOCATION:Ramblewood Country Club Mt. Laurel\, NJ 08053
UID:e.9292.319
SEQUENCE:3
DTSTAMP:20260421T021120Z
URL:https://members.blsj.com/events/details/june-golf-outing-ramblewood-country-club-afternoon-shotgun-06-15-2005-319
END:VEVENT

END:VCALENDAR
