BEGIN:VCALENDAR
VERSION:2.0
PRODID:-//ChamberMaster//Event Calendar 2.0//EN
METHOD:PUBLISH
X-PUBLISHED-TTL:P3D
REFRESH-INTERVAL:P3D
CALSCALE:GREGORIAN
BEGIN:VEVENT
DTSTART:20090624T220000Z
DTEND:20090624T220000Z
X-MICROSOFT-CDO-ALLDAYEVENT:FALSE
SUMMARY:JUNE GENERAL MEMBERSHIP MEETING - GUEST SPEAKER BOYCE THOMPSON-BUILDER MAGAZINE
DESCRIPTION:"What are today's buyers thinking  \n we can help them tell you " This meeting is open to all BLSJ Members    \n Please join us at Laurel Creek Country Club Sponsored by BLSJ Grand Sponsors Aflac\, Blenheim Construction\, D.W. Smith & Associates\, TD Bank North\, \n Hanley Wood Market Intelligence\, Norbord\, Norandex Building Materials\, ProBuild\,\n Taylor Wiseman Taylor\, Universal Supply\, Wilmington Trust\, Withum Smith+Brown Guest Speaker: Boyce Thompson\, Editorial Director - Builder Magazine\n \n Date: Wednesday\, June 24\, 2009\n Registration: 8:30 a.m. - to 9:00 a.m. \n Program: 9:00 a.m.   10:30 a.m. \n Place: Laurel Creek Country Club\n 701 Centerton Road\, Mount Laurel\, NJ\n Cost: $29.00* per person\n (Complete Breakfast Buffet Included)\n *BUILDERS RECEIVE ONE (1) COMPLIMENTARY TICKET Moderator: Wayne Norris\, Regional Sales Director-Hanley Wood Market Intelligence\n \n 1. National Housing Overview \n 2. Local Housing Overview \n 3. Panel discussion regarding the National & Local Housing Market\n a. Boyce Thompson\n b. National Builder   Al Garfall\, D.R. Horton\n c. Local Builder   Bruce Paparone\, Bruce Paparone\, Inc.     \n  4. Question & Answer Boyce Thompson is editorial director of the BUILDER group of magazines published by Hanley Wood\, LLC. He also directs the company's editorial council. In addition to BUILDER\, Thompson serves as editorial director of Big Builder\, Multifamily Executive\, Digital Home\, Developer\, Affordable Housing Finance\, and Apartment Finance Today magazines. Thompson has 26 years of experience writing and editing articles about home building\, architecture\, and retailing. He earned a M.A. in Journalism from the University of Missouri and holds a B.S. degree in English Literature from Northwestern University.
X-ALT-DESC;FMTTYPE=text/html:<p><span style="font-size: medium"><span style="color: #000000" /></span></p> <p style="text-align: center"><span style="font-size: medium"><span style="color: #0000ff">&nbsp\;</span><span style="color: #ff0000"><span>&ldquo\;What are today&rsquo\;s buyers thinking &hellip\;<br /> we can help them tell you&hellip\;&rdquo\;</span></span></span></p> <p style="text-align: center"><span style="font-size: medium"><span style="color: #ff0000"><span>This meeting is open to all BLSJ Members&nbsp\;&nbsp\;&nbsp\;&nbsp\;</span></span></span><br /> <span style="font-size: medium"><span style="color: #ff0000"><span>Please join us at Laurel Creek Country Club</span></span></span></p> <p style="text-align: center"><span style="font-size: medium"><span style="color: #ff0000"><span>Sponsored by BLSJ Grand Sponsors</span></span></span></p> <p style="text-align: center"><span style="font-size: medium"><span style="color: #0000ff">Aflac\, Blenheim Construction\, D.W. Smith &amp\; Associates\, TD Bank North\, <br /> Hanley Wood Market Intelligence\, Norbord\, Norandex Building Materials\, ProBuild\,<br /> Taylor Wiseman Taylor\, Universal Supply\, Wilmington Trust\, Withum Smith+Brown</span></span></p> <p style="text-align: center"><span style="font-size: medium">Guest Speaker: Boyce Thompson\, Editorial Director - Builder Magazine<br /> </span><br /> <span style="font-size: medium">Date: Wednesday\, June 24\, 2009<br /> Registration: 8:30 a.m. - to 9:00 a.m. <br /> Program: 9:00 a.m. &ndash\; 10:30 a.m. <br /> Place: Laurel Creek Country Club<br /> 701 Centerton Road\, Mount Laurel\, NJ<br /> Cost: $29.00* per person<br /> (Complete Breakfast Buffet Included)<br /> *BUILDERS RECEIVE ONE (1) COMPLIMENTARY TICKET</span></p> <p style="text-align: center"><span style="font-size: medium">Moderator: Wayne Norris\, Regional Sales Director-Hanley Wood Market Intelligence<br /> <br /> 1. National Housing Overview <br /> 2. Local Housing Overview <br /> 3. Panel discussion regarding the National &amp\; Local Housing Market<br /> a. Boyce Thompson<br /> b. National Builder &ndash\; Al Garfall\, D.R. Horton<br /> c. Local Builder &ndash\; Bruce Paparone\, Bruce Paparone\, Inc.&nbsp\;&nbsp\;&nbsp\;&nbsp\; <br /> </span><span style="font-size: medium">&nbsp\;4</span><span style="font-size: medium">. Question &amp\; Answer</span></p> <p>Boyce Thompson is editorial director of the BUILDER group of magazines published by Hanley Wood\, LLC. He also directs the company&rsquo\;s editorial council. In addition to BUILDER\, Thompson serves as editorial director of Big Builder\, Multifamily Executive\, Digital Home\, Developer\, Affordable Housing Finance\, and Apartment Finance Today magazines. Thompson has 26 years of experience writing and editing articles about home building\, architecture\, and retailing. He earned a M.A. in Journalism from the University of Missouri and holds a B.S. degree in English Literature from Northwestern University.</p> <p style="text-align: center"><span style="font-size: medium"><strong><span style="color: #ff0000" /><span style="color: #000000" /></strong></span></p> <p style="text-align: center">&nbsp\;</p>
LOCATION:701 Centerton Road Mt. Laurel\, NJ 08054-1624
UID:e.9292.1196
SEQUENCE:3
DTSTAMP:20260422T063950Z
URL:https://members.blsj.com/events/details/june-general-membership-meeting-guest-speaker-boyce-thompson-builder-magazine-06-24-2009-1196
END:VEVENT

END:VCALENDAR
