BEGIN:VCALENDAR
VERSION:2.0
PRODID:-//ChamberMaster//Event Calendar 2.0//EN
METHOD:PUBLISH
X-PUBLISHED-TTL:P3D
REFRESH-INTERVAL:P3D
CALSCALE:GREGORIAN
BEGIN:VEVENT
DTSTART:20100128T170000Z
DTEND:20100128T230000Z
X-MICROSOFT-CDO-ALLDAYEVENT:FALSE
SUMMARY:INVITED PEOPLE ONLY - PURCHASING AGENT ROUND TABLE MEETING-INVITED PEOPLE ONLY - 01/28/2010
DESCRIPTION:TO: Purchasing Managers & Builders\n FROM: Robert Sambuco\, Purchasing Manager - Bruce Paparone\, Inc.\n SUBJECT: Round Table Meeting - Invited people Only\n PLACE: League Office\n DATE: January 28\, 2010 \n Time: 9:00 AM \n \n MEETING AGENDA 1. Welcome remarks: R. Sambuco 2. Conflict of Interest Statement 3. Mission statement 4. Introduction of all in attendance 5. Topics:\n       a. Cost trends for commodities\n       b. Contractor services\n       c.  Best practices\n Note: This is an opportunity to exchange thoughts\, ideas\, best practices etc. with your peers without having to reveal your actual costs. 6.Next Meeting: TBD CC: W. Ziegenfuss\n CC: R. Van Osten\n CC: M. Spencer
X-ALT-DESC;FMTTYPE=text/html:<p>TO: Purchasing Managers &amp\; Builders<br /> FROM: Robert Sambuco\, Purchasing Manager - Bruce Paparone\, Inc.<br /> SUBJECT:&nbsp\;Round Table Meeting - Invited people Only<br /> PLACE: League Office<br /> DATE:&nbsp\;January 28\, 2010&nbsp\;<br /> Time:&nbsp\;9:00 AM <br /> <br /> MEETING AGENDA</p> <p>1. Welcome remarks: R. Sambuco</p> <p>2. Conflict of Interest Statement</p> <p>3. Mission statement</p> <p>4. Introduction of all in attendance</p> <p>5. Topics:<br /> &nbsp\;&nbsp\;&nbsp\;&nbsp\;&nbsp\; a. Cost trends for commodities<br /> &nbsp\;&nbsp\;&nbsp\;&nbsp\;&nbsp\; b. Contractor services<br /> &nbsp\;&nbsp\;&nbsp\;&nbsp\;&nbsp\; c.&nbsp\; Best practices<br /> Note: This is an opportunity to exchange thoughts\, ideas\, best practices etc. with your peers without having to reveal your actual costs.</p> <p>6.Next Meeting: TBD</p> <p>CC: W. Ziegenfuss<br /> CC: R. Van Osten<br /> CC: M. Spencer<br /> &nbsp\;</p>
LOCATION:114 Haddontowne Court Cherry Hill\, NJ 08034
UID:e.9292.718
SEQUENCE:3
DTSTAMP:20260421T223612Z
URL:https://members.blsj.com/events/details/invited-people-only-purchasing-agent-round-table-meeting-invited-people-only-01-28-2010-01-28-2010-718
END:VEVENT

END:VCALENDAR
