BEGIN:VCALENDAR
VERSION:2.0
PRODID:-//ChamberMaster//Event Calendar 2.0//EN
METHOD:PUBLISH
X-PUBLISHED-TTL:P3D
REFRESH-INTERVAL:P3D
CALSCALE:GREGORIAN
BEGIN:VEVENT
DTSTART:20050525T220000Z
DTEND:20050525T220000Z
X-MICROSOFT-CDO-ALLDAYEVENT:FALSE
SUMMARY:Investing Your Retirement Dollars in Real Estate
DESCRIPTION:"Investing Your Retirement Money in Real Estate" Flaster/Greenberg Real Estate and Employee Benefits Shareholder Allen P. Fineberg will discuss how to navigate the maze of tax and legal requirements to permit IRA and other retirement assets to be used for real estate investments.
X-ALT-DESC;FMTTYPE=text/html:"Investing Your Retirement Money in Real Estate" Flaster/Greenberg Real Estate and Employee Benefits Shareholder Allen P. Fineberg will discuss how to navigate the maze of tax and legal requirements to permit IRA and other retirement assets to be used for real estate investments. 
LOCATION:BLSJ Cherry Hill\, NJ 08034
UID:e.9292.1191
SEQUENCE:3
DTSTAMP:20260421T005149Z
URL:https://members.blsj.com/events/details/investing-your-retirement-dollars-in-real-estate-05-25-2005-1191
END:VEVENT

END:VCALENDAR
