BEGIN:VCALENDAR
VERSION:2.0
PRODID:-//ChamberMaster//Event Calendar 2.0//EN
METHOD:PUBLISH
X-PUBLISHED-TTL:P3D
REFRESH-INTERVAL:P3D
CALSCALE:GREGORIAN
BEGIN:VEVENT
DTSTART:20050421T220000Z
DTEND:20050421T220000Z
X-MICROSOFT-CDO-ALLDAYEVENT:FALSE
SUMMARY:Insurance-Why Does it Cost so Much etc - CANCELED
DESCRIPTION:Speaker: Lloyd Humphries\, Insurance Office of America
X-ALT-DESC;FMTTYPE=text/html:Speaker: Lloyd Humphries\, Insurance Office of America
LOCATION:BLSJ Cherry Hill\, NJ 08034
UID:e.9292.702
SEQUENCE:3
DTSTAMP:20260420T233535Z
URL:https://members.blsj.com/events/details/insurance-why-does-it-cost-so-much-etc-canceled-04-21-2005-702
END:VEVENT

END:VCALENDAR
