BEGIN:VCALENDAR
VERSION:2.0
PRODID:-//ChamberMaster//Event Calendar 2.0//EN
METHOD:PUBLISH
X-PUBLISHED-TTL:P3D
REFRESH-INTERVAL:P3D
CALSCALE:GREGORIAN
BEGIN:VEVENT
DTSTART:20051214T170000Z
DTEND:20051214T170000Z
X-MICROSOFT-CDO-ALLDAYEVENT:FALSE
SUMMARY:Installation of Officers/Holiday Party - 12/14/2005
DESCRIPTION:Installation of Officers and Board of Directors &  Holiday Dinner  Joseph S. Van Osten Lifetime Achievement Award will be presented to: Pete Haran\, Lipinski Landscape Irrigation\, Inc.  Also being presented this evening is the Distinguished Service Award to: Thomas Paparone Paparone Housing Company  Please bring an unwrapped toy which will be delivered to needy children in our area.  Cash contributions will also be accepted. We are also collecting donations of canned goods and non-perishable food items.  Please keep less fortunate families and children in your thoughts this season.  Hors d'oeuvres & Open Bar - 6:00 p.m.                      Dinner & Dancing  7:00 p.m.
X-ALT-DESC;FMTTYPE=text/html:Installation of Officers and Board of Directors &  Holiday Dinner  Joseph S. Van Osten Lifetime Achievement Award will be presented to: Pete Haran\, Lipinski Landscape Irrigation\, Inc.  Also being presented this evening is the Distinguished Service Award to: Thomas Paparone Paparone Housing Company  Please bring an unwrapped toy which will be delivered to needy children in our area.  Cash contributions will also be accepted. We are also collecting donations of canned goods and non-perishable food items.  Please keep less fortunate families and children in your thoughts this season.  Hors d'oeuvres & Open Bar - 6:00 p.m.                      Dinner & Dancing  7:00 p.m.                
LOCATION:Regency Palace Rte 73 & Fellowship Rd Mt. Laurel\, NJ 08053
UID:e.9292.991
SEQUENCE:3
DTSTAMP:20260421T111156Z
URL:https://members.blsj.com/events/details/installation-of-officers-holiday-party-12-14-2005-12-14-2005-991
END:VEVENT

END:VCALENDAR
