BEGIN:VCALENDAR
VERSION:2.0
PRODID:-//ChamberMaster//Event Calendar 2.0//EN
METHOD:PUBLISH
X-PUBLISHED-TTL:P3D
REFRESH-INTERVAL:P3D
CALSCALE:GREGORIAN
BEGIN:VEVENT
DTSTART:20061213T170000Z
DTEND:20061213T170000Z
X-MICROSOFT-CDO-ALLDAYEVENT:FALSE
SUMMARY:INSTALLATION OF OFFICERS & HOLIDAY PARTY
DESCRIPTION:Join us for the Installation of the 2007 Builders League Officers\n &\n Holiday Dinner\n \n The Mansions at Main Street\n Plaza 3000\n Voorhees\, NJ\n \n  This evening we will be presenting the \n Joseph S. Van Osten Lifetime Achievement Award \n to Joseph Vento\, Glendale Builders as well as the "Associate's Appreciation Award" to Joe LoPresti\, Paparone Housing \n \n Please bring an unwrapped toy which will be delivered to needy children in our area. Cash contributions will also be accepted. We are also collecting donations of canned goods and non-perishable food items. Please keep less fortunate families and children in your thoughts this season. \n \n Hors d'oeuvres & Open Bar - 6:00 p.m. Dinner & Dancing 7:00 p.m.
X-ALT-DESC;FMTTYPE=text/html:<p align="center"><font color="#ff0000"><strong>Join us for the Installation of the 2007 Builders League Officers<br /> &amp\;<br /> Holiday Dinner</strong></font><br /> <br /> The Mansions at Main Street<br /> Plaza 3000<br /> Voorhees\, NJ<br /> <br /> &nbsp\;This evening we will be presenting the&nbsp\;<br /> Joseph S. Van Osten Lifetime Achievement Award&nbsp\;<br /> to Joseph Vento\, Glendale Builders</p> <p align="center">as well as the</p> <p align="center">&quot\;Associate&rsquo\;s Appreciation Award&quot\;</p> <p align="center">to Joe LoPresti\, Paparone Housing</p> <p align="center"><br /> <br /> Please bring an unwrapped toy which will be delivered to needy children in our area. Cash contributions will also be accepted. We are also collecting donations of canned goods and non-perishable food items. Please keep less fortunate families and children in your thoughts this season.&nbsp\;<br /> <br /> Hors d&rsquo\;oeuvres &amp\; Open Bar - 6:00 p.m. Dinner &amp\; Dancing 7:00 p.m. </p>
LOCATION:The Mansion at Main Street Plaza 3000 Voorhees\, NJ 08043
UID:e.9292.1185
SEQUENCE:3
DTSTAMP:20260422T023727Z
URL:https://members.blsj.com/events/details/installation-of-officers-holiday-party-12-13-2006-1185
END:VEVENT

END:VCALENDAR
