BEGIN:VCALENDAR
VERSION:2.0
PRODID:-//ChamberMaster//Event Calendar 2.0//EN
METHOD:PUBLISH
X-PUBLISHED-TTL:P3D
REFRESH-INTERVAL:P3D
CALSCALE:GREGORIAN
BEGIN:VEVENT
DTSTART:20091209T170000Z
DTEND:20091209T170000Z
X-MICROSOFT-CDO-ALLDAYEVENT:FALSE
SUMMARY:INSTALLATION OF 2010 BLSJ OFFICERS/HOLIDAY PARTY
DESCRIPTION:Builders League of South Jersey\n                                                                                              Installation of Officers and Board of Directors\n                                                                                                                                      &\n                                                                                                                         Holiday Dinner\n                                                                                                           Wednesday\, December 9\, 2009      Cocktail Hour with Cheese & Crudites \n Cash Bar \n 6:00 p.m.- 7:00 p.m.\n Dinner & Dancing \n 7:00 p.m. 10:00 p.m.\n The Mansion on Main Street\n Plaza 3000\n Voorhees\, NJ\n \n HOLIDAY GIFT DRIVE\n WITH YOUR SUPPORT\, OUR HOLIDAY TOY/GIFT DRIVE\n WILL BRIGHTEN THE HOLIDAYS FOR OVER 1\,500 CHILDREN\, TEENS AND ADULTS.\n SIMPLE DONATIONS SUCH AS A HAT AND GLOVE SET\, BOARD GAME\, JOURNAL OR BARBIE DOLL CAN PROVIDE AN INCREDIBLE SENSE OF HOPE.\n PLEASE BRING YOUR NEW\, UNWRAPPED GIFTS TO THE HOLIDAY PARTY ON\n WEDNESDAY\, DECEMBER 9th OR DROP IT OFF AT THE LEAGUE OFFICE\n NO LATER THAN DECEMBER 10th.\n CASH DONATIONS WILL ALSO BE ACCEPTED.. Please consider also contributing items to our FOOD DRIVE\,\n Here is a list of the top items needed by food banks this year:\n    Canned meats such as tuna\, chicken or fish\n   Soups and stews. \n   Rice and pasta\n   Cereal\, including oatmeal. \n   Canned vegetables\, including tomatoes and tomato sauce. \n   Canned or dried beans and peas. \n   Canned fruits\n   Fruit juice (canned\, plastic or boxed). Make sure it's 100% juice.\n   Prepared box mixes such as macaroni and cheese or Hamburger Helper.\n   Shelf-stable milk. This includes dehydrated milk\, canned evaporated milk and instant breakfasts.
X-ALT-DESC;FMTTYPE=text/html:<p><span style="color: #800080" /><strong><span style="color: #ff0000" /></strong><span style="color: #000000"><span id="1258045247470S" style="display: none">&nbsp\;</span><span id="1258045250539S" style="display: none">&nbsp\;</span><span id="1258045252971S" style="display: none">&nbsp\;<span id="1258045256914S" style="display: none">&nbsp\;</span></span><span id="1258045261813S" style="display: none">&nbsp\;</span><span id="1258045262873S" style="display: none">&nbsp\;</span><span id="1258045264088S" style="display: none">&nbsp\;</span><span id="1258045264337S" style="display: none">&nbsp\;</span><span id="1258045264801S" style="display: none">&nbsp\;</span><span id="1258045265894S" style="display: none">&nbsp\;</span><span id="1258045266669S" style="display: none">&nbsp\;</span><span id="1258045266994S" style="display: none">&nbsp\;</span><span id="1258045268232S" style="display: none">&nbsp\;<span id="1258045278025S" style="display: none">&nbsp\;</span>&nbsp\;&nbsp\;&nbsp\;&nbsp\;&nbsp\;&nbsp\;&nbsp\;&nbsp\;&nbsp\;&nbsp\;&nbsp\;&nbsp\;&nbsp\;&nbsp\;&nbsp\;&nbsp\;&nbsp\;&nbsp\;&nbsp\;&nbsp\;&nbsp\;&nbsp\;&nbsp\;&nbsp\;&nbsp\;&nbsp\;&nbsp\;&nbsp\;&nbsp\;&nbsp\;&nbsp\;&nbsp\;&nbsp\;&nbsp\;&nbsp\;&nbsp\;&nbsp\;&nbsp\;&nbsp\;&nbsp\;&nbsp\;&nbsp\;&nbsp\;&nbsp\;&nbsp\;&nbsp\;&nbsp\;&nbsp\;&nbsp\;&nbsp\;&nbsp\;&nbsp\;&nbsp\;&nbsp\;&nbsp\;&nbsp\;&nbsp\;&nbsp\;&nbsp\;&nbsp\;&nbsp\;&nbsp\;&nbsp\;&nbsp\;&nbsp\;&nbsp\;&nbsp\;&nbsp\;&nbsp\;&nbsp\;&nbsp\;&nbsp\;&nbsp\;&nbsp\;&nbsp\;&nbsp\;&nbsp\;&nbsp\;&nbsp\;&nbsp\;&nbsp\;&nbsp\;&nbsp\;&nbsp\;&nbsp\;&nbsp\;&nbsp\;&nbsp\;&nbsp\;&nbsp\; </span>Builders League of South Jersey<br /> &nbsp\;&nbsp\;&nbsp\;&nbsp\;&nbsp\;&nbsp\;&nbsp\;&nbsp\;&nbsp\;&nbsp\;&nbsp\;&nbsp\;&nbsp\;&nbsp\;&nbsp\;&nbsp\;&nbsp\;&nbsp\;&nbsp\;&nbsp\;&nbsp\;&nbsp\;&nbsp\;&nbsp\;&nbsp\;&nbsp\;&nbsp\;&nbsp\;&nbsp\;&nbsp\;&nbsp\;&nbsp\;&nbsp\;&nbsp\;&nbsp\;&nbsp\;&nbsp\;&nbsp\;&nbsp\;&nbsp\;&nbsp\;&nbsp\;&nbsp\;&nbsp\;&nbsp\;&nbsp\;&nbsp\;&nbsp\;&nbsp\;&nbsp\;&nbsp\;&nbsp\;&nbsp\;&nbsp\;&nbsp\;&nbsp\;&nbsp\;&nbsp\;&nbsp\;&nbsp\;&nbsp\;&nbsp\;&nbsp\;&nbsp\;&nbsp\;&nbsp\;&nbsp\;&nbsp\;&nbsp\;&nbsp\;&nbsp\;&nbsp\;&nbsp\;&nbsp\;&nbsp\;&nbsp\;&nbsp\;&nbsp\;&nbsp\;&nbsp\;&nbsp\;&nbsp\;&nbsp\;&nbsp\;&nbsp\;&nbsp\;&nbsp\;&nbsp\;&nbsp\;&nbsp\;&nbsp\;&nbsp\;&nbsp\;Installation of Officers and Board of Directors<br /> &nbsp\;&nbsp\;&nbsp\;&nbsp\;&nbsp\;&nbsp\;&nbsp\;&nbsp\;&nbsp\;&nbsp\;&nbsp\;&nbsp\;&nbsp\;&nbsp\;&nbsp\;&nbsp\;&nbsp\;&nbsp\;&nbsp\;&nbsp\;&nbsp\;&nbsp\;&nbsp\;&nbsp\;&nbsp\;&nbsp\;&nbsp\;&nbsp\;&nbsp\;&nbsp\;&nbsp\;&nbsp\;&nbsp\;&nbsp\;&nbsp\;&nbsp\;&nbsp\;&nbsp\;&nbsp\;&nbsp\;&nbsp\;&nbsp\;&nbsp\;&nbsp\;&nbsp\;&nbsp\;&nbsp\;&nbsp\;&nbsp\;&nbsp\;&nbsp\;&nbsp\;&nbsp\;&nbsp\;&nbsp\;&nbsp\;&nbsp\;&nbsp\;&nbsp\;&nbsp\;&nbsp\;&nbsp\;&nbsp\;&nbsp\;&nbsp\;&nbsp\;&nbsp\;&nbsp\;&nbsp\;&nbsp\;&nbsp\;&nbsp\;&nbsp\;&nbsp\;&nbsp\;&nbsp\;&nbsp\;&nbsp\;&nbsp\;&nbsp\;&nbsp\;&nbsp\;&nbsp\;&nbsp\;&nbsp\;&nbsp\;&nbsp\;&nbsp\;&nbsp\;&nbsp\;&nbsp\;&nbsp\;&nbsp\;&nbsp\;&nbsp\;&nbsp\;&nbsp\;&nbsp\;&nbsp\;&nbsp\;&nbsp\;&nbsp\;&nbsp\;&nbsp\;&nbsp\;&nbsp\;&nbsp\;&nbsp\;&nbsp\;&nbsp\;&nbsp\;&nbsp\;&nbsp\;&nbsp\;&nbsp\;&nbsp\;&nbsp\;&nbsp\;&nbsp\;&nbsp\;&nbsp\;&nbsp\;&nbsp\;&nbsp\;&nbsp\;&nbsp\;&nbsp\;&nbsp\;&nbsp\;&nbsp\;&nbsp\;&nbsp\; &amp\;<br /> &nbsp\;&nbsp\;&nbsp\;&nbsp\;&nbsp\;&nbsp\;&nbsp\;&nbsp\;&nbsp\;&nbsp\;&nbsp\;&nbsp\;&nbsp\;&nbsp\;&nbsp\;&nbsp\;&nbsp\;&nbsp\;&nbsp\;&nbsp\;&nbsp\;&nbsp\;&nbsp\;&nbsp\;&nbsp\;&nbsp\;&nbsp\;&nbsp\;&nbsp\;&nbsp\;&nbsp\;&nbsp\;&nbsp\;&nbsp\;&nbsp\;&nbsp\;&nbsp\;&nbsp\;&nbsp\;&nbsp\;&nbsp\;&nbsp\;&nbsp\;&nbsp\;&nbsp\;&nbsp\;&nbsp\;&nbsp\;&nbsp\;&nbsp\;&nbsp\;&nbsp\;&nbsp\;&nbsp\;&nbsp\;&nbsp\;&nbsp\;&nbsp\;&nbsp\;&nbsp\;&nbsp\;&nbsp\;&nbsp\;&nbsp\;&nbsp\;&nbsp\;&nbsp\;&nbsp\;&nbsp\;&nbsp\;&nbsp\;&nbsp\;&nbsp\;&nbsp\;&nbsp\;&nbsp\;&nbsp\;&nbsp\;&nbsp\;&nbsp\;&nbsp\;&nbsp\;&nbsp\;&nbsp\;&nbsp\;&nbsp\;&nbsp\;&nbsp\;&nbsp\;&nbsp\;&nbsp\;&nbsp\;&nbsp\;&nbsp\;&nbsp\;&nbsp\;&nbsp\;&nbsp\;&nbsp\;&nbsp\;&nbsp\;&nbsp\;&nbsp\;&nbsp\;&nbsp\;&nbsp\;&nbsp\;&nbsp\;&nbsp\;&nbsp\;&nbsp\;&nbsp\;&nbsp\;&nbsp\;&nbsp\;&nbsp\;&nbsp\;&nbsp\;&nbsp\; Holiday Dinner<br /> &nbsp\;&nbsp\;&nbsp\;&nbsp\;&nbsp\;&nbsp\;&nbsp\;&nbsp\;&nbsp\;&nbsp\;&nbsp\;&nbsp\;&nbsp\;&nbsp\;&nbsp\;&nbsp\;&nbsp\;&nbsp\;&nbsp\;&nbsp\;&nbsp\;&nbsp\;&nbsp\;&nbsp\;&nbsp\;&nbsp\;&nbsp\;&nbsp\;&nbsp\;&nbsp\;&nbsp\;&nbsp\;&nbsp\;&nbsp\;&nbsp\;&nbsp\;&nbsp\;&nbsp\;&nbsp\;&nbsp\;&nbsp\;&nbsp\;&nbsp\;&nbsp\;&nbsp\;&nbsp\;&nbsp\;&nbsp\;&nbsp\;&nbsp\;&nbsp\;&nbsp\;&nbsp\;&nbsp\;&nbsp\;&nbsp\;&nbsp\;&nbsp\;&nbsp\;&nbsp\;&nbsp\;&nbsp\;&nbsp\;&nbsp\;&nbsp\;&nbsp\;&nbsp\;&nbsp\;&nbsp\;&nbsp\;&nbsp\;&nbsp\;&nbsp\;&nbsp\;&nbsp\;&nbsp\;&nbsp\;&nbsp\;&nbsp\;&nbsp\;&nbsp\;&nbsp\;&nbsp\;&nbsp\;&nbsp\;&nbsp\;&nbsp\;&nbsp\;&nbsp\;&nbsp\;&nbsp\;&nbsp\;&nbsp\;&nbsp\;&nbsp\;&nbsp\;&nbsp\;&nbsp\;&nbsp\;&nbsp\;&nbsp\;&nbsp\;&nbsp\;&nbsp\;&nbsp\; Wednesday\, December 9\, 2009</span></p> <p style="text-align: center"><span id="1258045250873E" style="display: none"><span id="1258045262019E" style="display: none"><span id="1258045263562E" style="display: none"><span id="1258045263882E" style="display: none">&nbsp\;<span id="1258045264426E" style="display: none">&nbsp\;<span id="1258045264532E" style="display: none">&nbsp\;<span id="1258045266189E" style="display: none">&nbsp\;<span id="1258045266099E" style="display: none">&nbsp\;</span></span></span></span></span></span></span></span><span style="color: #000000">Cocktail Hour with Cheese &amp\; Crudites <br /> Cash Bar <br /> 6:00 p.m.- 7:00 p.m.<br /> Dinner &amp\; Dancing <br /> 7:00 p.m.&mdash\;10:00 p.m.<br /> The Mansion on Main Street<br /> Plaza 3000<br /> Voorhees\, NJ</span><br /> <br /> <span style="color: #ff0000">HOLIDAY GIFT DRIVE<br /> WITH YOUR SUPPORT\, OUR HOLIDAY TOY/GIFT DRIVE<br /> WILL BRIGHTEN THE HOLIDAYS FOR OVER 1\,500 CHILDREN\, TEENS AND ADULTS.<br /> SIMPLE DONATIONS SUCH AS A HAT AND GLOVE SET\, BOARD GAME\, JOURNAL OR BARBIE DOLL CAN PROVIDE AN INCREDIBLE SENSE OF HOPE.<br /> PLEASE BRING YOUR NEW\, UNWRAPPED GIFTS TO THE HOLIDAY PARTY ON<br /> WEDNESDAY\, DECEMBER 9th OR DROP IT OFF AT THE LEAGUE OFFICE<br /> NO LATER THAN DECEMBER 10th.<br /> CASH DONATIONS WILL ALSO BE ACCEPTED..</span></p> <p style="text-align: center"><u><em><span style="color: #000000"><span id="1258045093331S" style="display: none"><span><strong>Please consider also contributing items to our FOOD DRIVE\,<br /> Here is a list of the top items needed by food banks this year:</strong></span></span></span><span id="1258045093331S" style="display: none"><span style="color: #800080" /><br /> </span></em></u><span id="1258045093331S" style="display: none">&nbsp\;</span><strong>&bull\; Canned meats such as tuna\, chicken or fish<br /> &bull\; Soups and stews. <br /> &bull\; Rice and pasta<br /> &bull\; Cereal\, including oatmeal. <br /> &bull\; Canned vegetables\, including tomatoes and tomato sauce. <br /> &bull\; Canned or dried beans and peas. <br /> &bull\; Canned fruits<br /> &bull\; Fruit juice (canned\, plastic or boxed). Make sure it&rsquo\;s 100% juice.<br /> &bull\; Prepared box mixes such as macaroni and cheese or Hamburger Helper.<br /> &bull\; Shelf-stable milk. This includes dehydrated milk\, canned evaporated milk and instant breakfasts.&nbsp\;</strong></p>
LOCATION:Plaza 300 Voorhees\, NJ 08034
UID:e.9292.311
SEQUENCE:3
DTSTAMP:20260421T223648Z
URL:https://members.blsj.com/events/details/installation-of-2010-blsj-officers-holiday-party-12-09-2009-311
END:VEVENT

END:VCALENDAR
