BEGIN:VCALENDAR
VERSION:2.0
PRODID:-//ChamberMaster//Event Calendar 2.0//EN
METHOD:PUBLISH
X-PUBLISHED-TTL:P3D
REFRESH-INTERVAL:P3D
CALSCALE:GREGORIAN
BEGIN:VEVENT
DTSTART:20041206T230000Z
DTEND:20041206T170000Z
X-MICROSOFT-CDO-ALLDAYEVENT:FALSE
SUMMARY:Industry Education Seminar-Land Use & Planning/Joanne Harkins\, Sp
DESCRIPTION:
X-ALT-DESC;FMTTYPE=text/html:
LOCATION:Builders League of South Jersey Cherry Hill\, NJ 08034
UID:e.9292.1183
SEQUENCE:3
DTSTAMP:20260420T185355Z
URL:https://members.blsj.com/events/details/industry-education-seminar-land-use-planning-joanne-harkins-sp-12-06-2004-1183
END:VEVENT

END:VCALENDAR
