BEGIN:VCALENDAR
VERSION:2.0
PRODID:-//ChamberMaster//Event Calendar 2.0//EN
METHOD:PUBLISH
X-PUBLISHED-TTL:P3D
REFRESH-INTERVAL:P3D
CALSCALE:GREGORIAN
BEGIN:VEVENT
DTSTART:20050309T170000Z
DTEND:20050309T170000Z
X-MICROSOFT-CDO-ALLDAYEVENT:FALSE
SUMMARY:Increased Profits Through Effective Builder/Broker Cooperation
DESCRIPTION:Reach additional customers by enhancing your partnership with RealtorsÂ®. This course addresses the valuable builder-broker relationship\, including the differences & similarities between the two parties\, their needs and specific ways to better work together for mutual benefit. Other topics include broker selection & Builder options for staffing new home sales.
X-ALT-DESC;FMTTYPE=text/html:Reach additional customers by enhancing your partnership with RealtorsÂ®. This course addresses the valuable builder-broker relationship\, including the differences & similarities between the two parties\, their needs and specific ways to better work together for mutual benefit. Other topics include broker selection & Builder options for staffing new home sales. 
LOCATION:Builders League office Cherry Hill\, NJ 08034
UID:e.9292.989
SEQUENCE:3
DTSTAMP:20260420T221431Z
URL:https://members.blsj.com/events/details/increased-profits-through-effective-builder-broker-cooperation-03-09-2005-989
END:VEVENT

END:VCALENDAR
