BEGIN:VCALENDAR
VERSION:2.0
PRODID:-//ChamberMaster//Event Calendar 2.0//EN
METHOD:PUBLISH
X-PUBLISHED-TTL:P3D
REFRESH-INTERVAL:P3D
CALSCALE:GREGORIAN
BEGIN:VEVENT
DTSTART:20051209T230000Z
DTEND:20051209T170000Z
X-MICROSOFT-CDO-ALLDAYEVENT:FALSE
SUMMARY:How to Successfully Develop Tainted Farmland - 12/09/2005
DESCRIPTION:Speakers: Richard Lake and Gary Rakow from Geo-Technology Associates\, Inc.   New Jersey's agricultural legacy has left many properties impacted by historic pesticide use\, which can have a serious effect on their development potential.    There are solutions!   How do you determine which solution is right for your project?   Come join us for an informative session on the remediation of agricultural properties in New Jersey.  This presentation given by Richard Lake from Geo-Technology Associates\, Inc. will provide you with practical knowledge to help evaluate potential environmental concerns\, and how to determine which solution is right for your project.  We'll describe innovative methods that can be used to evaluate your sites\, and cost-effective remedial strategies that have already been successfully implemented in New Jersey. We will also discuss future trends in the field and how they may apply to your upcoming projects.
X-ALT-DESC;FMTTYPE=text/html:Speakers: Richard Lake and Gary Rakow from Geo-Technology Associates\, Inc.   New Jersey's agricultural legacy has left many properties impacted by historic pesticide use\, which can have a serious effect on their development potential.    There are solutions!   How do you determine which solution is right for your project?   Come join us for an informative session on the remediation of agricultural properties in New Jersey.  This presentation given by Richard Lake from Geo-Technology Associates\, Inc. will provide you with practical knowledge to help evaluate potential environmental concerns\, and how to determine which solution is right for your project.  We'll describe innovative methods that can be used to evaluate your sites\, and cost-effective remedial strategies that have already been successfully implemented in New Jersey. We will also discuss future trends in the field and how they may apply to your upcoming projects.     
LOCATION:Builders League office 114 Haddontowne Ct Cherry Hill\, NJ 08034
UID:e.9292.309
SEQUENCE:3
DTSTAMP:20260421T111007Z
URL:https://members.blsj.com/events/details/how-to-successfully-develop-tainted-farmland-12-09-2005-12-09-2005-309
END:VEVENT

END:VCALENDAR
