BEGIN:VCALENDAR
VERSION:2.0
PRODID:-//ChamberMaster//Event Calendar 2.0//EN
METHOD:PUBLISH
X-PUBLISHED-TTL:P3D
REFRESH-INTERVAL:P3D
CALSCALE:GREGORIAN
BEGIN:VEVENT
DTSTART:20050323T230000Z
DTEND:20050323T230000Z
X-MICROSOFT-CDO-ALLDAYEVENT:FALSE
SUMMARY:"How to Navigate the Maze of Employee Leave Laws"
DESCRIPTION:Attorney Michael D. Homans\,Esq. an employment and labor law shareholder at Flaster/Greenberg will explore state and federal laws that apply when employees need medical leave\, maternity leave or leave to care for a sick child\; how to comply with overlapping laws and policies\, including the issue of whether the leave must be paid or unpaid.  Applicable laws include the federal Family and Medical Leave Act\, the New Jersey Family Leave Act\, New Jersey State Disability Insurance\, the Americans with Disabilities Act\, and the New Jersey Law Against Discrimination. Workers' Compensation and private employer insurance policies also will be examined.
X-ALT-DESC;FMTTYPE=text/html:Attorney Michael D. Homans\,Esq. an employment and labor law shareholder at Flaster/Greenberg will explore state and federal laws that apply when employees need medical leave\, maternity leave or leave to care for a sick child\; how to comply with overlapping laws and policies\, including the issue of whether the leave must be paid or unpaid.  Applicable laws include the federal Family and Medical Leave Act\, the New Jersey Family Leave Act\, New Jersey State Disability Insurance\, the Americans with Disabilities Act\, and the New Jersey Law Against Discrimination. Workers' Compensation and private employer insurance policies also will be examined.   
LOCATION:BLSJ Cherry Hill\, NJ 08034
UID:e.9292.179
SEQUENCE:3
DTSTAMP:20260420T222114Z
URL:https://members.blsj.com/events/details/how-to-navigate-the-maze-of-employee-leave-laws-03-23-2005-179
END:VEVENT

END:VCALENDAR
