BEGIN:VCALENDAR
VERSION:2.0
PRODID:-//ChamberMaster//Event Calendar 2.0//EN
METHOD:PUBLISH
X-PUBLISHED-TTL:P3D
REFRESH-INTERVAL:P3D
CALSCALE:GREGORIAN
BEGIN:VEVENT
DTSTART:20050120T230000Z
DTEND:20050120T230000Z
X-MICROSOFT-CDO-ALLDAYEVENT:FALSE
SUMMARY:How to Navigate Small Claims Court in New Jersey
DESCRIPTION:Speaker: James Kozachek\, Esq.\, Flaster/Greenberg  "How to Navigate Small Claims Court in New Jersey" on Thursday\, January 20th. Presented by attorney James A. Kozachek\, a real estate and construction law shareholder at Flaster/Greenberg P.C.    Kozachek will review important considerations for creditors before navigating New Jersey's court system to file claims for unpaid balances under $15\,000\; and procedural differences for such claims that must be filed in the Small Claims Division of the Special Civil Part.   The Special Civil Part addresses claims for less than $15\,000.00\, while the Small Claims Division of the Special Civil Part is limited to claims under $3\,000.00.  Kozachek will prepare attendees in the event they decide to venture into this forum as litigants.
X-ALT-DESC;FMTTYPE=text/html:Speaker: James Kozachek\, Esq.\, Flaster/Greenberg  "How to Navigate Small Claims Court in New Jersey" on Thursday\, January 20th. Presented by attorney James A. Kozachek\, a real estate and construction law shareholder at Flaster/Greenberg P.C.    Kozachek will review important considerations for creditors before navigating New Jersey's court system to file claims for unpaid balances under $15\,000\; and procedural differences for such claims that must be filed in the Small Claims Division of the Special Civil Part.   The Special Civil Part addresses claims for less than $15\,000.00\, while the Small Claims Division of the Special Civil Part is limited to claims under $3\,000.00.  Kozachek will prepare attendees in the event they decide to venture into this forum as litigants.   
LOCATION:BLSJ Cherry Hill\, NJ 08034
UID:e.9292.1189
SEQUENCE:3
DTSTAMP:20260420T200221Z
URL:https://members.blsj.com/events/details/how-to-navigate-small-claims-court-in-new-jersey-01-20-2005-1189
END:VEVENT

END:VCALENDAR
