BEGIN:VCALENDAR
VERSION:2.0
PRODID:-//ChamberMaster//Event Calendar 2.0//EN
METHOD:PUBLISH
X-PUBLISHED-TTL:P3D
REFRESH-INTERVAL:P3D
CALSCALE:GREGORIAN
BEGIN:VEVENT
DTSTART:20100814T220000Z
DTEND:20100814T220000Z
X-MICROSOFT-CDO-ALLDAYEVENT:FALSE
SUMMARY:HOMES FOR TROOPS - DAY WITH THE RIVERSHARKS
DESCRIPTION:DAY WITH THE CAMDEN RIVERSHARKS SATURDAY\, AUGUST 14\, 2010\n \n 5:30 P.M. Baseball is just the Beginning!\n \n $5 of each $11 ticket is donated to\n Homes for Our Troops\n \n PLUS Fireworks and KIDS Run the bases after the game! \n \n Here's how to purchase tickets:\n 1. Go to www.riversharks.com and click on the "Riversharks Fundraising Program Log-In" icon\n 2. Enter Unique Code - the code is HFOT\n 3. Click "BUY"\n 4. Select your seats and complete your order\n 5. Root for the Riversharks\n \n NOTE: sales end 3 days before the game. MUST BE PAID FOR AT THE RIVERSHARKS WEB SITE NOT BLSJ
X-ALT-DESC;FMTTYPE=text/html:<p style="text-align: center">DAY WITH THE CAMDEN RIVERSHARKS</p> <p style="text-align: center">SATURDAY\, AUGUST 14\, 2010<br /> <br /> 5:30 P.M.</p> <p style="text-align: center"><em>Baseball is just the Beginning!<br /> </em><br /> <span style="font-size: small"><span style="color: #ff0000">$5 of each $11 ticket is donated to<br /> Homes for Our Troops<br /> </span></span><br /> PLUS Fireworks and KIDS Run the bases after the game!</p> <p style="text-align: center"><br /> <br /> Here&rsquo\;s how to purchase tickets:<br /> 1. Go to <a href="http://www.riversharks.com">www.riversharks.com</a> and click on the &quot\;Riversharks Fundraising Program Log-In&quot\; icon<br /> 2. Enter Unique Code&nbsp\;- the code is HFOT<br /> 3. Click &quot\;BUY&quot\;<br /> 4. Select your seats and complete your order<br /> 5. Root for the Riversharks<br /> <br /> NOTE: sales end 3 days before the game.</p> <p style="text-align: center"><span style="color: #ff0000"><strong>MUST BE PAID FOR AT THE RIVERSHARKS WEB SITE NOT BLSJ</strong></span></p>
LOCATION:401 N. Delaware Avenue Camden\, NJ 08102
UID:e.9292.308
SEQUENCE:3
DTSTAMP:20260421T120151Z
URL:https://members.blsj.com/events/details/homes-for-troops-day-with-the-riversharks-08-14-2010-308
END:VEVENT

END:VCALENDAR
