BEGIN:VCALENDAR
VERSION:2.0
PRODID:-//ChamberMaster//Event Calendar 2.0//EN
METHOD:PUBLISH
X-PUBLISHED-TTL:P3D
REFRESH-INTERVAL:P3D
CALSCALE:GREGORIAN
BEGIN:VEVENT
DTSTART:20100630T160000Z
DTEND:20100630T160000Z
X-MICROSOFT-CDO-ALLDAYEVENT:FALSE
SUMMARY:Homes for Our Troops 5K Race Sub-committee Meeting - 06/30/2010
DESCRIPTION:
X-ALT-DESC;FMTTYPE=text/html:
LOCATION:114 Haddontowne Court Cherry Hill\, NJ 08034
UID:e.9292.1187
SEQUENCE:3
DTSTAMP:20260421T132854Z
URL:https://members.blsj.com/events/details/homes-for-our-troops-5k-race-sub-committee-meeting-06-30-2010-06-30-2010-1187
END:VEVENT

END:VCALENDAR
