BEGIN:VCALENDAR
VERSION:2.0
PRODID:-//ChamberMaster//Event Calendar 2.0//EN
METHOD:PUBLISH
X-PUBLISHED-TTL:P3D
REFRESH-INTERVAL:P3D
CALSCALE:GREGORIAN
BEGIN:VEVENT
DTSTART:20100527T160000Z
DTEND:20100527T160000Z
X-MICROSOFT-CDO-ALLDAYEVENT:FALSE
SUMMARY:Homes for Our Troops 5K Race Sub-Committee Meeting - 05/27/2010
DESCRIPTION:5K Race Planning Meeting
X-ALT-DESC;FMTTYPE=text/html:<p>5K Race Planning Meeting</p>
LOCATION:114 Haddontowne Court Cherry Hill\, NJ 08034
UID:e.9292.701
SEQUENCE:3
DTSTAMP:20260421T163526Z
URL:https://members.blsj.com/events/details/homes-for-our-troops-5k-race-sub-committee-meeting-05-27-2010-05-27-2010-701
END:VEVENT

END:VCALENDAR
