BEGIN:VCALENDAR
VERSION:2.0
PRODID:-//ChamberMaster//Event Calendar 2.0//EN
METHOD:PUBLISH
X-PUBLISHED-TTL:P3D
REFRESH-INTERVAL:P3D
CALSCALE:GREGORIAN
BEGIN:VEVENT
DTSTART:20031210T170000Z
DTEND:20031210T170000Z
X-MICROSOFT-CDO-ALLDAYEVENT:FALSE
SUMMARY:Holiday Party & Installation of 2004 Officiers & Board
DESCRIPTION:Regency Palace\, Mt. Laurel\, NJ
X-ALT-DESC;FMTTYPE=text/html:Regency Palace\, Mt. Laurel\, NJ
LOCATION:\, NJ
UID:e.9292.524
SEQUENCE:3
DTSTAMP:20260420T031025Z
URL:https://members.blsj.com/events/details/holiday-party-installation-of-2004-officiers-board-12-10-2003-524
END:VEVENT

END:VCALENDAR
