BEGIN:VCALENDAR
VERSION:2.0
PRODID:-//ChamberMaster//Event Calendar 2.0//EN
METHOD:PUBLISH
X-PUBLISHED-TTL:P3D
REFRESH-INTERVAL:P3D
CALSCALE:GREGORIAN
BEGIN:VEVENT
DTSTART:20100428T220000Z
DTEND:20100428T220000Z
X-MICROSOFT-CDO-ALLDAYEVENT:FALSE
SUMMARY:HARVEST THE SUN - ADVANCED PERFORMANCE SOLAR ENERGY SOLUTIONS THAT WORK FOR YOU!POSTPONED
DESCRIPTION:"HARVEST THE SUN" - POSTPONED\n ADVANCED PERFORMANCE SOLAR ENERGY SOLUTIONS THAT WORK FOR YOU!       Normal 0   false false false        MicrosoftInternetExplorer4         /* Style Definitions */ table.MsoNormalTable {mso-style-name:"Table Normal"\; mso-tstyle-rowband-size:0\; mso-tstyle-colband-size:0\; mso-style-noshow:yes\; mso-style-parent:""\; mso-padding-alt:0in 5.4pt 0in 5.4pt\; mso-para-margin:0in\; mso-para-margin-bottom:.0001pt\; mso-pagination:widow-orphan\; font-size:10.0pt\; font-family:"Times New Roman"\; mso-ansi-language:#0400\; mso-fareast-language:#0400\; mso-bidi-language:#0400\;}   The seminar provides an overview of the following:               Solar Funding Sources:         State Rebates         Federal Tax Credit         Net metering         Solar Renewable Energy Certificates (SRECs)   vary by state                  FAQ's:                                 How long is the warranty on the solar electric system?         How does it work in cloudy weather or at night?         How do the solar modules withstand extreme weather?         How much will the solar electric system save?         What happens if the utility company has a black-out?
X-ALT-DESC;FMTTYPE=text/html:<p style="text-align: center"><strong><span style="font-size: small">&ldquo\;HARVEST THE SUN&rdquo\; - <u><span style="color: #ff0000">POSTPONED</span></u><br /> ADVANCED PERFORMANCE SOLAR ENERGY SOLUTIONS THAT WORK FOR YOU!</span></strong></p> <p style="text-align: center"><strong><span style="font-size: small" /></strong> <meta http-equiv="Content-Type" content="text/html\; charset=utf-8" /> <meta content="Word.Document" name="ProgId" /> <meta content="Microsoft Word 11" name="Generator" /> <meta content="Microsoft Word 11" name="Originator" /><link href="file:///C:\\DOCUME~1\\Marlene\\LOCALS~1\\Temp\\msohtml1\\01\\clip_filelist.xml" rel="File-List" /><!--[if gte mso 9]><xml> <w:WordDocument> <w:View>Normal</w:View> <w:Zoom>0</w:Zoom> <w:PunctuationKerning /> <w:ValidateAgainstSchemas /> <w:SaveIfXMLInvalid>false</w:SaveIfXMLInvalid> <w:IgnoreMixedContent>false</w:IgnoreMixedContent> <w:AlwaysShowPlaceholderText>false</w:AlwaysShowPlaceholderText> <w:Compatibility> <w:BreakWrappedTables /> <w:SnapToGridInCell /> <w:WrapTextWithPunct /> <w:UseAsianBreakRules /> <w:DontGrowAutofit /> </w:Compatibility> <w:BrowserLevel>MicrosoftInternetExplorer4</w:BrowserLevel> </w:WordDocument> </xml><![endif]--><!--[if gte mso 9]><xml> <w:LatentStyles DefLockedState="false" LatentStyleCount="156"> </w:LatentStyles> </xml><![endif]--><style type="text/css"> <!--  /* Font Definitions */  @font-face    {font-family:Wingdings\;    panose-1:5 0 0 0 0 0 0 0 0 0\;    mso-font-charset:2\;    mso-generic-font-family:auto\;    mso-font-pitch:variable\;    mso-font-signature:0 268435456 0 0 -2147483648 0\;} @font-face    {font-family:"Arial Bold"\;    panose-1:2 11 7 4 2 2 2 2 2 4\;    mso-font-charset:0\;    mso-generic-font-family:auto\;    mso-font-pitch:auto\;    mso-font-signature:0 0 0 0 0 0\;}  /* Style Definitions */  p.MsoNormal\, li.MsoNormal\, div.MsoNormal    {mso-style-parent:""\;    margin:0in\;    margin-bottom:.0001pt\;    mso-pagination:widow-orphan\;    font-size:12.0pt\;    font-family:"Times New Roman"\;    mso-fareast-font-family:"Times New Roman"\;} @page Section1    {size:8.5in 11.0in\;    margin:1.0in 1.25in 1.0in 1.25in\;    mso-header-margin:.5in\;    mso-footer-margin:.5in\;    mso-paper-source:0\;} div.Section1    {page:Section1\;}  /* List Definitions */  @list l0    {mso-list-id:1867406206\;    mso-list-type:hybrid\;    mso-list-template-ids:1911048106 67698689 67698691 67698693 67698689 67698691 67698693 67698689 67698691 67698693\;} @list l0:level1    {mso-level-number-format:bullet\;    mso-level-text:???\;    mso-level-tab-stop:1.5in\;    mso-level-number-position:left\;    margin-left:1.5in\;    text-indent:-.25in\;    font-family:Symbol\;} @list l1    {mso-list-id:1885864646\;    mso-list-type:hybrid\;    mso-list-template-ids:979422016 67698689 67698691 67698693 67698689 67698691 67698693 67698689 67698691 67698693\;} @list l1:level1    {mso-level-number-format:bullet\;    mso-level-text:???\;    mso-level-tab-stop:1.5in\;    mso-level-number-position:left\;    margin-left:1.5in\;    text-indent:-.25in\;    font-family:Symbol\;} ol    {margin-bottom:0in\;} ul    {margin-bottom:0in\;} --> </style><!--[if gte mso 10]> <style> /* Style Definitions */ table.MsoNormalTable {mso-style-name:"Table Normal"\; mso-tstyle-rowband-size:0\; mso-tstyle-colband-size:0\; mso-style-noshow:yes\; mso-style-parent:""\; mso-padding-alt:0in 5.4pt 0in 5.4pt\; mso-para-margin:0in\; mso-para-margin-bottom:.0001pt\; mso-pagination:widow-orphan\; font-size:10.0pt\; font-family:"Times New Roman"\; mso-ansi-language:#0400\; mso-fareast-language:#0400\; mso-bidi-language:#0400\;} </style> <![endif]--></p> <p class="MsoNormal" style="text-align: left"><span style="font-size: small"><b><span style="font-family: &quot\;Arial Bold&quot\;">The seminar provides an overview of the following</span></b><span style="font-family: Arial">:</span></span><span style="font-family: Arial"><o:p></o:p></span></p> <p class="MsoNormal" style="text-align: left"><span style="font-size: small"><span style="font-family: Arial"><o:p>&nbsp\;</o:p></span></span><span style="font-family: Arial"><o:p></o:p></span></p> <p class="MsoNormal" style="text-align: left"><span style="font-size: small"><span style="font-family: Arial">&nbsp\;&nbsp\;&nbsp\;&nbsp\;&nbsp\;&nbsp\;&nbsp\;&nbsp\;&nbsp\;&nbsp\;&nbsp\; </span><b><span style="font-family: &quot\;Arial Bold&quot\;">Solar Funding Sources:</span></b></span><b><span style="font-family: &quot\;Arial Bold&quot\;"><o:p></o:p></span></b></p> <p class="MsoNormal" style="text-align: left\; text-indent: -0.25in\; margin-left: 1.5in"><span style="font-size: small"><!--[if !supportLists]--><span style="font-family: Symbol">&middot\;<span style="font: 7pt &quot\;Times New Roman&quot\;">&nbsp\;&nbsp\;&nbsp\;&nbsp\;&nbsp\;&nbsp\; </span></span><!--[endif]--><b><span style="font-family: &quot\;Arial Bold&quot\;">State Rebates</span></b></span><b><span style="font-family: &quot\;Arial Bold&quot\;"><o:p></o:p></span></b></p> <p class="MsoNormal" style="text-align: left\; text-indent: -0.25in\; margin-left: 1.5in"><span style="font-size: small"><!--[if !supportLists]--><span style="font-family: Symbol">&middot\;<span style="font: 7pt &quot\;Times New Roman&quot\;">&nbsp\;&nbsp\;&nbsp\;&nbsp\;&nbsp\;&nbsp\; </span></span><!--[endif]--><b><span style="font-family: &quot\;Arial Bold&quot\;">Federal Tax Credit</span></b></span><b><span style="font-family: &quot\;Arial Bold&quot\;"><o:p></o:p></span></b></p> <p class="MsoNormal" style="text-align: left\; text-indent: -0.25in\; margin-left: 1.5in"><span style="font-size: small"><!--[if !supportLists]--><span style="font-family: Symbol">&middot\;<span style="font: 7pt &quot\;Times New Roman&quot\;">&nbsp\;&nbsp\;&nbsp\;&nbsp\;&nbsp\;&nbsp\; </span></span><!--[endif]--><b><span style="font-family: &quot\;Arial Bold&quot\;">Net metering</span></b></span><b><span style="font-family: &quot\;Arial Bold&quot\;"><o:p></o:p></span></b></p> <p class="MsoNormal" style="text-align: left\; text-indent: -0.25in\; margin-left: 1.5in"><span style="font-size: small"><!--[if !supportLists]--><span style="font-family: Symbol">&middot\;<span style="font: 7pt &quot\;Times New Roman&quot\;">&nbsp\;&nbsp\;&nbsp\;&nbsp\;&nbsp\;&nbsp\; </span></span><!--[endif]--><b><span style="font-family: &quot\;Arial Bold&quot\;">Solar Renewable Energy Certificates</span></b></span><b><span style="font-family: &quot\;Arial Bold&quot\;"><o:p></o:p></span></b></p> <p class="MsoNormal" style="text-align: left\; margin-left: 1.5in"><span style="font-size: small"><b><span style="font-family: &quot\;Arial Bold&quot\;">(SRECs) &ndash\; vary by state</span></b></span><b><span style="font-family: &quot\;Arial Bold&quot\;"><o:p></o:p></span></b></p> <p class="MsoNormal" style="text-align: left\; margin-left: 1.5in"><span style="font-size: small" /><b><span style="font-family: &quot\;Arial Bold&quot\;"><o:p><span style="font-size: small">&nbsp\;</span></o:p></span></b></p> <p class="MsoNormal" style="text-align: left"><span style="font-size: small"><span style="font-family: Arial\; color: navy">&nbsp\;&nbsp\;&nbsp\;&nbsp\;&nbsp\;&nbsp\;&nbsp\;&nbsp\;&nbsp\;&nbsp\;&nbsp\;&nbsp\;&nbsp\;&nbsp\; </span><b><span style="font-family: &quot\;Arial Bold&quot\;\; color: black">FAQ&rsquo\;s:</span></b></span><b><span style="font-family: &quot\;Arial Bold&quot\;\; color: black"><o:p></o:p></span></b></p> <p class="MsoNormal"><span style="font-size: small"><b><span style="font-family: &quot\;Arial Bold&quot\;\; color: black">&nbsp\;&nbsp\;&nbsp\;&nbsp\;&nbsp\;&nbsp\;&nbsp\;&nbsp\;&nbsp\;&nbsp\;&nbsp\;&nbsp\;&nbsp\;&nbsp\;&nbsp\;&nbsp\;&nbsp\;&nbsp\;&nbsp\;&nbsp\;&nbsp\;&nbsp\; </span></b></span><b><span style="font-family: &quot\;Arial Bold&quot\;\; color: black"><o:p></o:p></span></b></p> <p class="MsoNormal" style="text-align: left\; text-indent: -0.25in\; margin-left: 1.5in"><span style="font-size: small"><!--[if !supportLists]--><span style="font-family: Symbol\; color: black">&middot\;<span style="font: 7pt &quot\;Times New Roman&quot\;">&nbsp\;&nbsp\;&nbsp\;&nbsp\;&nbsp\;&nbsp\; </span></span><!--[endif]--><b><span style="font-family: &quot\;Arial Bold&quot\;\; color: black">How long is the warranty on the solar electric system?</span></b></span><b><span style="font-family: &quot\;Arial Bold&quot\;\; color: black"><o:p></o:p></span></b></p> <p class="MsoNormal" style="text-align: left\; text-indent: -0.25in\; margin-left: 1.5in"><span style="font-size: small"><!--[if !supportLists]--><span style="font-family: Symbol\; color: black">&middot\;<span style="font: 7pt &quot\;Times New Roman&quot\;">&nbsp\;&nbsp\;&nbsp\;&nbsp\;&nbsp\;&nbsp\; </span></span><!--[endif]--><b><span style="font-family: &quot\;Arial Bold&quot\;\; color: black">How does it work in cloudy weather or at night?</span></b></span><b><span style="font-family: &quot\;Arial Bold&quot\;\; color: black"><o:p></o:p></span></b></p> <p class="MsoNormal" style="text-align: left\; text-indent: -0.25in\; margin-left: 1.5in"><span style="font-size: small"><!--[if !supportLists]--><span style="font-family: Symbol\; color: black">&middot\;<span style="font: 7pt &quot\;Times New Roman&quot\;">&nbsp\;&nbsp\;&nbsp\;&nbsp\;&nbsp\;&nbsp\; </span></span><!--[endif]--><b><span style="font-family: &quot\;Arial Bold&quot\;\; color: black">How do the solar modules withstand extreme weather?</span></b></span><b><span style="font-family: &quot\;Arial Bold&quot\;\; color: black"><o:p></o:p></span></b></p> <p class="MsoNormal" style="text-align: left\; text-indent: -0.25in\; margin-left: 1.5in"><span style="font-size: small"><!--[if !supportLists]--><span style="font-family: Symbol\; color: black">&middot\;<span style="font: 7pt &quot\;Times New Roman&quot\;">&nbsp\;&nbsp\;&nbsp\;&nbsp\;&nbsp\;&nbsp\; </span></span><!--[endif]--><b><span style="font-family: &quot\;Arial Bold&quot\;\; color: black">How much will the solar electric system save?</span></b></span><b><span style="font-family: &quot\;Arial Bold&quot\;\; color: black"><o:p></o:p></span></b></p> <p class="MsoNormal" style="text-align: left\; text-indent: -0.25in\; margin-left: 1.5in"><span style="font-size: small"><!--[if !supportLists]--><span style="font-family: Symbol\; color: black">&middot\;<span style="font: 7pt &quot\;Times New Roman&quot\;">&nbsp\;&nbsp\;&nbsp\;&nbsp\;&nbsp\;&nbsp\; </span></span><!--[endif]--><b><span style="font-family: &quot\;Arial Bold&quot\;\; color: black">What happens if the utility company has a black-out?</span></b></span><b><span style="font-family: &quot\;Arial Bold&quot\;\; color: black"><o:p></o:p></span></b></p> <p>&nbsp\;</p>
LOCATION:114 Haddontowne Court Cherry Hill\, NJ 08034
UID:e.9292.523
SEQUENCE:3
DTSTAMP:20260421T180052Z
URL:https://members.blsj.com/events/details/harvest-the-sun-advanced-performance-solar-energy-solutions-that-work-for-you-postponed-04-28-2010-523
END:VEVENT

END:VCALENDAR
