BEGIN:VCALENDAR
VERSION:2.0
PRODID:-//ChamberMaster//Event Calendar 2.0//EN
METHOD:PUBLISH
X-PUBLISHED-TTL:P3D
REFRESH-INTERVAL:P3D
CALSCALE:GREGORIAN
BEGIN:VEVENT
DTSTART:20060123T170000Z
DTEND:20060123T230000Z
X-MICROSOFT-CDO-ALLDAYEVENT:FALSE
SUMMARY:Hall of Fame Committee Meeting
DESCRIPTION:
X-ALT-DESC;FMTTYPE=text/html:
LOCATION:\, NJ
UID:e.9292.1181
SEQUENCE:3
DTSTAMP:20260421T111135Z
URL:https://members.blsj.com/events/details/hall-of-fame-committee-meeting-01-23-2006-1181
END:VEVENT

END:VCALENDAR
