BEGIN:VCALENDAR
VERSION:2.0
PRODID:-//ChamberMaster//Event Calendar 2.0//EN
METHOD:PUBLISH
X-PUBLISHED-TTL:P3D
REFRESH-INTERVAL:P3D
CALSCALE:GREGORIAN
BEGIN:VEVENT
DTSTART:20050121T230000Z
DTEND:20050121T170000Z
X-MICROSOFT-CDO-ALLDAYEVENT:FALSE
SUMMARY:Group Health Insurance for the Small to Mid Size Company
DESCRIPTION:Group Health Insurance for the small to mid size company.    What is driving the cost of Health Insurance to continue to increase in double digits    How can an employer lower their premiums\,  new products being introduced Health Savings Accounts\,  Health Reimbursement Accounts    Answers to your questions regarding NJ laws regarding group health insurance  Presented by the Lubenow Agency and Aetna Doug Lubenow is the immediate past president of the South Jersey Chapter of  The National Association of Health Underwriters.  Doug has been to Washington a number of times to lobby for Health Care reform as well as Long Term Care Insurance.  He is the President of the Lubenow Agency in Moorestown NJ and has been in business for over 15 years.  Aetna - Ryan Petrizzi is the Sales Manager for Aetna in the South Jersey area and will be able to discuss the new and exciting products that Aetna will have  Available to help control the high cost of Group Health Insurance.
X-ALT-DESC;FMTTYPE=text/html:Group Health Insurance for the small to mid size company.    What is driving the cost of Health Insurance to continue to increase in double digits    How can an employer lower their premiums\,  new products being introduced Health Savings Accounts\,  Health Reimbursement Accounts    Answers to your questions regarding NJ laws regarding group health insurance  Presented by the Lubenow Agency and Aetna Doug Lubenow is the immediate past president of the South Jersey Chapter of  The National Association of Health Underwriters.  Doug has been to Washington a number of times to lobby for Health Care reform as well as Long Term Care Insurance.  He is the President of the Lubenow Agency in Moorestown NJ and has been in business for over 15 years.  Aetna - Ryan Petrizzi is the Sales Manager for Aetna in the South Jersey area and will be able to discuss the new and exciting products that Aetna will have  Available to help control the high cost of Group Health Insurance.  
LOCATION:114 Haddowntowne Court Cherry Hill\, NJ 08034
UID:e.9292.1158
SEQUENCE:3
DTSTAMP:20260420T200340Z
URL:https://members.blsj.com/events/details/group-health-insurance-for-the-small-to-mid-size-company-01-21-2005-1158
END:VEVENT

END:VCALENDAR
