BEGIN:VCALENDAR
VERSION:2.0
PRODID:-//ChamberMaster//Event Calendar 2.0//EN
METHOD:PUBLISH
X-PUBLISHED-TTL:P3D
REFRESH-INTERVAL:P3D
CALSCALE:GREGORIAN
BEGIN:VEVENT
DTSTART:20090604T220000Z
DTEND:20090604T220000Z
X-MICROSOFT-CDO-ALLDAYEVENT:FALSE
SUMMARY:Green Energy People Solar Energy Seminar
DESCRIPTION:New Jersey Business and homeowners now have the cost-effectiveness and governmentalsupport to utilize the power of the sun. The Garden State is living up to it's name: New Jersey has one of the nations largest solar energy power programs in the country\, ranked 6th in the United States. New Jersey Solar Finamcing Model:\n *State Rebates\n *Federal Tax Credit\n *Net Metering\n *Solar Renewable Energy Certificates (SRES's)\n \n Who should attend: Builders - Remodelors - Architects - Engineers
X-ALT-DESC;FMTTYPE=text/html:<p>New Jersey Business and homeowners now have the cost-effectiveness and governmentalsupport to utilize the power of the sun.</p> <p>The Garden State is living up to it's name: New Jersey has one of the nations largest solar energy power programs in the country\, ranked 6th in the United States.</p> <p>New Jersey Solar Finamcing Model:<br /> *State Rebates<br /> *Federal Tax Credit<br /> *Net Metering<br /> *Solar Renewable Energy Certificates (SRES's)<br /> <br /> Who should attend: Builders - Remodelors - Architects - Engineers</p>
LOCATION:114 Haddontowne Court Cherry Hill\, NJ 08034
UID:e.9292.986
SEQUENCE:3
DTSTAMP:20260422T063210Z
URL:https://members.blsj.com/events/details/green-energy-people-solar-energy-seminar-06-04-2009-986
END:VEVENT

END:VCALENDAR
