BEGIN:VCALENDAR
VERSION:2.0
PRODID:-//ChamberMaster//Event Calendar 2.0//EN
METHOD:PUBLISH
X-PUBLISHED-TTL:P3D
REFRESH-INTERVAL:P3D
CALSCALE:GREGORIAN
BEGIN:VEVENT
DTSTART:20090528T160000Z
DTEND:20090528T160000Z
X-MICROSOFT-CDO-ALLDAYEVENT:FALSE
SUMMARY:Green Building/Home Expo Committee Meeting
DESCRIPTION:AGENDA: 1. Venue: The Enterprise Center at Burlington County College\n                   Date: Friday\, February 12th - Sunday\, February 14th\, 2010\n 2. Budget\n 3. Sub-Committee Reports:\n     a. Seminars/Educational Break-out Sessions (V. Coppola)\n     b. Sponsorship/Ad Sales \n     c. PR/Communications (M. Danielsen)\n     d. Vendor booth sales\n 4. Old Business/New Business
X-ALT-DESC;FMTTYPE=text/html:<p>AGENDA:</p> <p>1. Venue: The Enterprise Center at Burlington County College<br /> &nbsp\;&nbsp\;&nbsp\;&nbsp\;&nbsp\;&nbsp\;&nbsp\;&nbsp\;&nbsp\;&nbsp\;&nbsp\;&nbsp\;&nbsp\;&nbsp\;&nbsp\;&nbsp\;&nbsp\;&nbsp\;Date: Friday\, February 12th - Sunday\, February 14th\, 2010<br /> 2. Budget<br /> 3. Sub-Committee Reports:<br /> &nbsp\;&nbsp\;&nbsp\; a. Seminars/Educational Break-out Sessions (V. Coppola)<br /> &nbsp\;&nbsp\;&nbsp\; b. Sponsorship/Ad Sales&nbsp\;<br /> &nbsp\;&nbsp\;&nbsp\; c. PR/Communications (M. Danielsen)<br /> &nbsp\;&nbsp\;&nbsp\; d. Vendor booth sales<br /> 4. Old Business/New Business</p>
LOCATION:114 Haddontowne Court Cherry Hill\, NJ 08034
UID:e.9292.1099
SEQUENCE:3
DTSTAMP:20260422T075144Z
URL:https://members.blsj.com/events/details/green-building-home-expo-committee-meeting-05-28-2009-1099
END:VEVENT

END:VCALENDAR
