BEGIN:VCALENDAR
VERSION:2.0
PRODID:-//ChamberMaster//Event Calendar 2.0//EN
METHOD:PUBLISH
X-PUBLISHED-TTL:P3D
REFRESH-INTERVAL:P3D
CALSCALE:GREGORIAN
BEGIN:VEVENT
DTSTART:20100302T170000Z
DTEND:20100302T170000Z
X-MICROSOFT-CDO-ALLDAYEVENT:FALSE
SUMMARY:Green Building Committee - 03/02/2010
DESCRIPTION:TO:                 Green Building Committee \n \n FROM:            Rick Van Osten\, Executive Vice President               \n \n SUBJECT:     Green Building Committee Meeting \n \n DATE:           Tuesday\, March 2\, 2010\n \n TIME:             9:00 a.m.\n PLACE:         League Office\, Cherry Hill\n \n AGENDA 1.   The committee will be holding its first organizational committee to decide its mission.\n 2.   Selection of Committee Chairman for 2010\n 3.   Update on NJBA Green Building Committee\n 4.   Report on NJBA Virtual Green Building Event\n 5.   BLSJ Living Green Expo   Spring 2011\n 6.   Other Business
X-ALT-DESC;FMTTYPE=text/html:<p>TO:                 Green Building Committee <br /> <br /> FROM:            Rick Van Osten\, Executive Vice President               <br /> <br /> SUBJECT:     Green Building Committee Meeting <br /> <br /> DATE:           Tuesday\, March 2\, 2010<br /> <br /> TIME:             9:00 a.m.<br /> PLACE:         League Office\, Cherry Hill<br /> <br /> AGENDA</p> <p>1.   The committee will be holding its first organizational committee to decide its mission.<br /> 2.   Selection of Committee Chairman for 2010<br /> 3.   Update on NJBA Green Building Committee<br /> 4.   Report on NJBA Virtual Green Building Event<br /> 5.   BLSJ Living Green Expo &ndash\; Spring 2011<br /> 6.   Other Business</p> <p><br /> &nbsp\;</p>
LOCATION:114 Haddontowne Court Cherry Hill\, NJ 08034
UID:e.9292.506
SEQUENCE:3
DTSTAMP:20260421T181841Z
URL:https://members.blsj.com/events/details/green-building-committee-03-02-2010-03-02-2010-506
END:VEVENT

END:VCALENDAR
