BEGIN:VCALENDAR
VERSION:2.0
PRODID:-//ChamberMaster//Event Calendar 2.0//EN
METHOD:PUBLISH
X-PUBLISHED-TTL:P3D
REFRESH-INTERVAL:P3D
CALSCALE:GREGORIAN
BEGIN:VEVENT
DTSTART:20050531T160000Z
DTEND:20050531T160000Z
X-MICROSOFT-CDO-ALLDAYEVENT:FALSE
SUMMARY:Golf Sub-Committee Meeting for Ramblewood Golf Outing
DESCRIPTION:AGENDA:   1. Schedule of Events  2. Volunteers scheduling  3. Give-a-ways  4. Entertainment   If you are interested in serving on the golf sub-commiittee for the June 15th outing\, you are invited to join us on Tuesday\, May 31st at 10:00 a.m.   Please RSVP to 856-616-8460 or marlene@blsj.com if you plan on attending
X-ALT-DESC;FMTTYPE=text/html:AGENDA:   1. Schedule of Events  2. Volunteers scheduling  3. Give-a-ways  4. Entertainment   If you are interested in serving on the golf sub-commiittee for the June 15th outing\, you are invited to join us on Tuesday\, May 31st at 10:00 a.m.   Please RSVP to 856-616-8460 or marlene@blsj.com if you plan on attending 
LOCATION:BLSJ Cherry Hill\, NJ 08034
UID:e.9292.497
SEQUENCE:3
DTSTAMP:20260421T004942Z
URL:https://members.blsj.com/events/details/golf-sub-committee-meeting-for-ramblewood-golf-outing-05-31-2005-497
END:VEVENT

END:VCALENDAR
