BEGIN:VCALENDAR
VERSION:2.0
PRODID:-//ChamberMaster//Event Calendar 2.0//EN
METHOD:PUBLISH
X-PUBLISHED-TTL:P3D
REFRESH-INTERVAL:P3D
CALSCALE:GREGORIAN
BEGIN:VEVENT
DTSTART:20060315T170000Z
DTEND:20060315T170000Z
X-MICROSOFT-CDO-ALLDAYEVENT:FALSE
SUMMARY:GMM - MEET THE BUILDER NIGHT-BUILDER ATTENDANCE
DESCRIPTION:"MEET THE BUILDERS NIGHT"...  IS A SPECIAL OPPORTUNITY FOR OUR ASSOCIATE MEMBERS TO MEET YOU!  BRING YOUR PURCHASING AGENTS\, MARKETING PEOPLE\, AND  OTHER MEMBERS OF YOUR ORGANIZATION (3 FREE TICKETS)  Meet and Network with other Builder members in the industry   Participate in a fun Lincoln Log "building competition"   Then join us for dinner   and\, in spite of skyrocketing building costs and taxes\, people still want to buy houses in New Jersey. But we are running out of room.   Growth Fit Management provides a way to preserve open space\, farmlands\, and environmentally sensitive lands\, provides housing for population growth for the next 50 to 60 years\, and reduces the tax burden on existing and future residents.  Learn from the developers of the Growth Fit Management Plan the Solution to the question "Where will our Children Live"?
X-ALT-DESC;FMTTYPE=text/html:"MEET THE BUILDERS NIGHT"...  IS A SPECIAL OPPORTUNITY FOR OUR ASSOCIATE MEMBERS TO MEET YOU!  BRING YOUR PURCHASING AGENTS\, MARKETING PEOPLE\, AND  OTHER MEMBERS OF YOUR ORGANIZATION (3 FREE TICKETS)  Meet and Network with other Builder members in the industry   Participate in a fun Lincoln Log "building competition"   Then join us for dinner & a Special Presentation by:  Thomas Paparone\, Paparone Housing Company & Patrick Kane\, Taylor Wiseman & Taylor  "SMART PLANNING THROUGH GROWTH-FIT" ~WHERE WILL OUR CHILDREN LIVE"?~  Over the last two years the Builders League of South Jersey (BLSJ) has been developing a concept known as Growth Fit Management.   In spite of the current overregulation by the State\, builders still want to provide quality\, affordable housing in New Jersey\; and\, in spite of skyrocketing building costs and taxes\, people still want to buy houses in New Jersey. But we are running out of room.   Growth Fit Management provides a way to preserve open space\, farmlands\, and environmentally sensitive lands\, provides housing for population growth for the next 50 to 60 years\, and reduces the tax burden on existing and future residents.  Learn from the developers of the Growth Fit Management Plan the Solution to the question "Where will our Children Live"? 
LOCATION:Regency Palace Mt. Laurel\, NJ 00000
UID:e.9292.295
SEQUENCE:3
DTSTAMP:20260421T134411Z
URL:https://members.blsj.com/events/details/gmm-meet-the-builder-night-builder-attendance-03-15-2006-295
END:VEVENT

END:VCALENDAR
