BEGIN:VCALENDAR
VERSION:2.0
PRODID:-//ChamberMaster//Event Calendar 2.0//EN
METHOD:PUBLISH
X-PUBLISHED-TTL:P3D
REFRESH-INTERVAL:P3D
CALSCALE:GREGORIAN
BEGIN:VEVENT
DTSTART:20060517T160000Z
DTEND:20060517T160000Z
X-MICROSOFT-CDO-ALLDAYEVENT:FALSE
SUMMARY:GMM - Hall of Fame & Scholarship Night
DESCRIPTION:JOIN US FOR OUR 2nd ANNUAL HALL OF FAME PRESENTATIONS AND AWARDING OF STUDENT SCHOLARSHIPS FROM THE BLSJ SCHOLARSHIP      FOUNDATION                             Hall of Fame Builder Inductees   Jirair Hovnanian\, J.S. Hovnanian & Sons Thomas Paparone\, Paparone Housing Phil Chiusano\, C & C Development LLC John Sheridan  Hall of Fame Associate Inductees  Kenneth Schatz\, Cohen Schatz Associates Robert Washburn\, Esq.\, Flaster/Greenberg PC Nance' Carlson\, Out of the Box Strategies
X-ALT-DESC;FMTTYPE=text/html:JOIN US FOR OUR 2nd ANNUAL HALL OF FAME PRESENTATIONS AND AWARDING OF STUDENT SCHOLARSHIPS FROM THE BLSJ SCHOLARSHIP      FOUNDATION                             Hall of Fame Builder Inductees   Jirair Hovnanian\, J.S. Hovnanian & Sons Thomas Paparone\, Paparone Housing Phil Chiusano\, C & C Development LLC John Sheridan  Hall of Fame Associate Inductees  Kenneth Schatz\, Cohen Schatz Associates Robert Washburn\, Esq.\, Flaster/Greenberg PC Nance' Carlson\, Out of the Box Strategies 
LOCATION:Regency Palace Mt. Laurel\, NJ 00000
UID:e.9292.1095
SEQUENCE:3
DTSTAMP:20260421T170249Z
URL:https://members.blsj.com/events/details/gmm-hall-of-fame-scholarship-night-05-17-2006-1095
END:VEVENT

END:VCALENDAR
