BEGIN:VCALENDAR
VERSION:2.0
PRODID:-//ChamberMaster//Event Calendar 2.0//EN
METHOD:PUBLISH
X-PUBLISHED-TTL:P3D
REFRESH-INTERVAL:P3D
CALSCALE:GREGORIAN
BEGIN:VEVENT
DTSTART:20061018T160000Z
DTEND:20061018T160000Z
X-MICROSOFT-CDO-ALLDAYEVENT:FALSE
SUMMARY:GMM-ASSOCIATE EXPO/MONTE CARLO NIGHT
DESCRIPTION:JOIN US AT OUR NEW LOCATION - THE CROWNE PLAZA (FORMERLY THE CHERRY HILL HILTON)\, ROUTE 70\, CHERRY HILL\, NEW JERSEY
X-ALT-DESC;FMTTYPE=text/html:JOIN US AT OUR NEW LOCATION - THE CROWNE PLAZA (FORMERLY THE CHERRY HILL HILTON)\, ROUTE 70\, CHERRY HILL\, NEW JERSEY
LOCATION:Crowne Plaza Hotel Previously the Cherry Hill Hilton Cherry Hill\, NJ 00000
UID:e.9292.1096
SEQUENCE:3
DTSTAMP:20260421T235417Z
URL:https://members.blsj.com/events/details/gmm-associate-expo-monte-carlo-night-10-18-2006-1096
END:VEVENT

END:VCALENDAR
