BEGIN:VCALENDAR
VERSION:2.0
PRODID:-//ChamberMaster//Event Calendar 2.0//EN
METHOD:PUBLISH
X-PUBLISHED-TTL:P3D
REFRESH-INTERVAL:P3D
CALSCALE:GREGORIAN
BEGIN:VEVENT
DTSTART:20060516T220000Z
DTEND:20060516T160000Z
X-MICROSOFT-CDO-ALLDAYEVENT:FALSE
SUMMARY:"Getting Customers to Spend More & Buy More Often"
DESCRIPTION:Building Profit Through Consistency The Power of Leverage in Your Business Do your customers buy from you because you offer the best products or are they best at what you do?  Successful companies know that customers buy from them when they give customers what they say they are going to give them (promise) and they give it to them consistently.   In other words\, consistency creates the reputation your business will be built on'.  So how do you achieve consistency within your business?  The answer lies in the systems you put in place.  From marketing and sales to recruiting and reporting\, systems are the key to consistency ... and consistency is the key to PROFITS.  Takeaways from our discussion:    Why systems are important to all stakeholders... the customer\, the team\, the suppliers\, the owner    The steps to creating the systems you need in your business    Tips to get your team involved and keep them motivated to deliver consistency within your business.    Presented by:     Joan Nowak\, Certified Business Coach       Action International Business Coaching
X-ALT-DESC;FMTTYPE=text/html:Building Profit Through Consistency The Power of Leverage in Your Business Do your customers buy from you because you offer the best products or are they best at what you do?  Successful companies know that customers buy from them when they give customers what they say they are going to give them (promise) and they give it to them consistently.   In other words\, consistency creates the reputation your business will be built on'.  So how do you achieve consistency within your business?  The answer lies in the systems you put in place.  From marketing and sales to recruiting and reporting\, systems are the key to consistency ... and consistency is the key to PROFITS.  Takeaways from our discussion:    Why systems are important to all stakeholders... the customer\, the team\, the suppliers\, the owner    The steps to creating the systems you need in your business    Tips to get your team involved and keep them motivated to deliver consistency within your business.    Presented by:     Joan Nowak\, Certified Business Coach       Action International Business Coaching          
LOCATION:Builders League 114 Haddontowne Ct Cherry Hill\, NJ 08034
UID:e.9292.34
SEQUENCE:3
DTSTAMP:20260421T165850Z
URL:https://members.blsj.com/events/details/getting-customers-to-spend-more-buy-more-often-05-16-2006-34
END:VEVENT

END:VCALENDAR
