BEGIN:VCALENDAR
VERSION:2.0
PRODID:-//ChamberMaster//Event Calendar 2.0//EN
METHOD:PUBLISH
X-PUBLISHED-TTL:P3D
REFRESH-INTERVAL:P3D
CALSCALE:GREGORIAN
BEGIN:VEVENT
DTSTART:20050309T170000Z
DTEND:20050309T230000Z
X-MICROSOFT-CDO-ALLDAYEVENT:FALSE
SUMMARY:Generational Selling
DESCRIPTION:Generational Selling *Not included as part of the MCSP elective choices From "Post Depression" to "Doo-Wop" to "Flower Power" and beyond\, people have varied ways of approaching the home purchase process. This Â½ day seminar explores techniques for sales. Communication\, quality perceptions\, education\, and much more are evaluated to understand the driving forces behind today's homebuyer. Instructor: Nancy Gainer Date: Wednesday\, March 9\, 2005 Time: 1:00 p.m. - 2:30 p.m. Cost: Member $50/Non-member $100
X-ALT-DESC;FMTTYPE=text/html:Generational Selling *Not included as part of the MCSP elective choices From "Post Depression" to "Doo-Wop" to "Flower Power" and beyond\, people have varied ways of approaching the home purchase process. This Â½ day seminar explores techniques for sales. Communication\, quality perceptions\, education\, and much more are evaluated to understand the driving forces behind today's homebuyer. Instructor: Nancy Gainer Date: Wednesday\, March 9\, 2005 Time: 1:00 p.m. - 2:30 p.m. Cost: Member $50/Non-member $100 
LOCATION:Builders League of South Jersey Cherry Hill\, NJ 08034
UID:e.9292.1094
SEQUENCE:3
DTSTAMP:20260420T221431Z
URL:https://members.blsj.com/events/details/generational-selling-03-09-2005-1094
END:VEVENT

END:VCALENDAR
