BEGIN:VCALENDAR
VERSION:2.0
PRODID:-//ChamberMaster//Event Calendar 2.0//EN
METHOD:PUBLISH
X-PUBLISHED-TTL:P3D
REFRESH-INTERVAL:P3D
CALSCALE:GREGORIAN
BEGIN:VEVENT
DTSTART:20100915T160000Z
DTEND:20100915T160000Z
X-MICROSOFT-CDO-ALLDAYEVENT:FALSE
SUMMARY:General Membership Meeting - Open to ALL BLSJ Members & Guests
DESCRIPTION:General Membership Meeting-Open to ALL BLSJ Members & Guests GUEST SPEAKER: WILLIAM ASDAL\n Asdal Builders\, LLC  Topic: Defensive Estimating ~ Protecting your Profits  The single most important line on any estimate is the PROFIT line item. Learn how to establish what this number should be\, then explore all the techniques to protect this profit from erosion. The seminar will cover building the profit number and creating job estimates. Further discussion will examine the defensive mechanisms (management skills\, terms and conditions\, reporting\, tracking) that keep the profit whole throughout the contract life.\n \n  William Asdal\, CGR\, owner of Asdal Builders\, LLC\, of Chester\, New Jersey\, is an award-winning residential remodeler and custom builder with over 30 years experience. Asdal is the former chairman of the National Association of Home Builders' Remodelors  Council and was a driving force behind the creation of Professional Remodeling magazine to address the business needs of the industry.
X-ALT-DESC;FMTTYPE=text/html:<p><span style="font-size: medium" /><b><span style="font-size: 18pt" /></b></p> <p><span style="font-size: x-small" />&nbsp\;&nbsp\;&nbsp\;&nbsp\;&nbsp\;&nbsp\;&nbsp\;&nbsp\;&nbsp\;&nbsp\;&nbsp\;&nbsp\;&nbsp\;&nbsp\;&nbsp\;&nbsp\;&nbsp\;&nbsp\;&nbsp\;&nbsp\;&nbsp\;&nbsp\;&nbsp\;&nbsp\;&nbsp\;&nbsp\;&nbsp\;&nbsp\;&nbsp\;&nbsp\;&nbsp\;&nbsp\;&nbsp\;&nbsp\;&nbsp\;&nbsp\;&nbsp\;&nbsp\;&nbsp\;&nbsp\;&nbsp\;&nbsp\;&nbsp\;&nbsp\;&nbsp\;&nbsp\;&nbsp\;&nbsp\;&nbsp\;&nbsp\;&nbsp\;&nbsp\;&nbsp\;&nbsp\;&nbsp\;&nbsp\;&nbsp\;&nbsp\;&nbsp\;&nbsp\;&nbsp\;&nbsp\;&nbsp\; <span style="font-size: small">General Membership Meeting-Open to ALL BLSJ Members &amp\; Guests</span></p> <p style="text-align: center"><span style="font-size: small">GUEST SPEAKER: WILLIAM ASDAL<br /> Asdal Builders\, LLC </span></p> <p style="text-align: center"><span style="font-size: medium"><span style="color: #ff0000">Topic: Defensive Estimating ~ Protecting your Profits </span></span><span style="color: #ff0000" /></p> <p style="text-align: center"><span style="font-size: small">The single most important line on any estimate is the PROFIT line item. Learn how to establish what this number should be\, then explore all the techniques to protect this profit from erosion. The seminar will cover building the profit number and creating job estimates. Further discussion will examine the defensive mechanisms (management skills\, terms and conditions\, reporting\, tracking) that keep the profit whole throughout the contract life.<br /> </span><br /> <span id="1282661620061E" style="display: none">&nbsp\;</span><span style="font-size: x-small"><span id="1282661620061E" style="display: none">William Asdal\, CGR\, owner of Asdal Builders\, LLC\, of Chester\, New Jersey\, is an award-winning residential remodeler and custom builder with over 30 years experience. Asdal is the former chairman of the National Association of Home Builders&rsquo\; Remodelors&trade\; Council and was a driving force behind the creation of Professional Remodeling magazine to address the business needs of the industry.</span></span><span style="font-size: small" /></p>
LOCATION:81 West White Horse Pike Berlin\, NJ 08009
UID:e.9292.1092
SEQUENCE:3
DTSTAMP:20260421T093140Z
URL:https://members.blsj.com/events/details/general-membership-meeting-open-to-all-blsj-members-guests-09-15-2010-1092
END:VEVENT

END:VCALENDAR
