BEGIN:VCALENDAR
VERSION:2.0
PRODID:-//ChamberMaster//Event Calendar 2.0//EN
METHOD:PUBLISH
X-PUBLISHED-TTL:P3D
REFRESH-INTERVAL:P3D
CALSCALE:GREGORIAN
BEGIN:VEVENT
DTSTART:20050921T160000Z
DTEND:20050921T160000Z
X-MICROSOFT-CDO-ALLDAYEVENT:FALSE
SUMMARY:General Membership Meeting: Housing & the U.S. Economy: How Long
DESCRIPTION:GUEST SPEAKER William C. Dunkelberg    Professor of Economics Temple University School of Business & Management Chief Economist\, National Federation of Independent Business  Topic: Housing & the U.S. Economy: How Long Can This Keep Going On?  A look at the importance of housing in the overall economy\, the fundamentals (demographics\,household formation\, immigration\, interest rates\, income growth)\, inventories (#s and month's sales)\, price and financing trends and do this in the context of the larger economy (jobs\, twin deficits\, foreign purchases of mortgage backs etc.)  PLUS AN UPDATE ON  THE IMPACT OF HURRICANE KATRINA ON BUILDING MATERIALS AND PRICES
X-ALT-DESC;FMTTYPE=text/html:GUEST SPEAKER William C. Dunkelberg    Professor of Economics Temple University School of Business & Management Chief Economist\, National Federation of Independent Business  Topic: Housing & the U.S. Economy: How Long Can This Keep Going On?  A look at the importance of housing in the overall economy\, the fundamentals (demographics\,household formation\, immigration\, interest rates\, income growth)\, inventories (#s and month's sales)\, price and financing trends and do this in the context of the larger economy (jobs\, twin deficits\, foreign purchases of mortgage backs etc.)  PLUS AN UPDATE ON  THE IMPACT OF HURRICANE KATRINA ON BUILDING MATERIALS AND PRICES 
LOCATION:Regency Palace Rte 73 & Fellowship Rd Mt. Laurel\, NJ 08053
UID:e.9292.1152
SEQUENCE:3
DTSTAMP:20260421T055734Z
URL:https://members.blsj.com/events/details/general-membership-meeting-housing-the-u-s-economy-how-long-09-21-2005-1152
END:VEVENT

END:VCALENDAR
