BEGIN:VCALENDAR
VERSION:2.0
PRODID:-//ChamberMaster//Event Calendar 2.0//EN
METHOD:PUBLISH
X-PUBLISHED-TTL:P3D
REFRESH-INTERVAL:P3D
CALSCALE:GREGORIAN
BEGIN:VEVENT
DTSTART:20060118T170000Z
DTEND:20060118T170000Z
X-MICROSOFT-CDO-ALLDAYEVENT:FALSE
SUMMARY:General Membership Meeting-2006 Economic Forecast-Pat O'Keefe
DESCRIPTION:
X-ALT-DESC;FMTTYPE=text/html:
LOCATION:Regency Palace Fellowship Road Mt. Laurel\, NJ 08054
UID:e.9292.982
SEQUENCE:3
DTSTAMP:20260421T111118Z
URL:https://members.blsj.com/events/details/general-membership-meeting-2006-economic-forecast-pat-o-keefe-01-18-2006-982
END:VEVENT

END:VCALENDAR
