BEGIN:VCALENDAR
VERSION:2.0
PRODID:-//ChamberMaster//Event Calendar 2.0//EN
METHOD:PUBLISH
X-PUBLISHED-TTL:P3D
REFRESH-INTERVAL:P3D
CALSCALE:GREGORIAN
BEGIN:VEVENT
DTSTART:20090916T160000Z
DTEND:20090916T160000Z
X-MICROSOFT-CDO-ALLDAYEVENT:FALSE
SUMMARY:General Membership BREAKFAST Meeting - STEVE CORDASCO - HOST OF BIG MONEY\, WPHT 1210 - GUEST SPEAKER
DESCRIPTION:PROTECTING ASSETS IN TODAY'S FALTERING ECONOMY\n \n Guest Speaker:\n STEVE CORDASCO\, Big Money\n The Big Talker 1210 AM WPHT\n \n Join us as the well known radio host of Big Money WPHT1210 AM offers tips on how to navigate the economic challenges gripping the nation.\n \n Steve will offer a broad view of the national economy\, citing the short and long term impacts on consumers and businesses throughout the region and offering his personal insights on what to expect next.\n \n Find out what country Steve believes will lead the way out of this financial mess\; what will be the next "bubble"\; who is indirectly manipulating the markets.\n \n This is a seminar you can't afford to miss!\n \n Steve's practical\, straightforward advice on big money matters propels listener calls and questions on 1210 AM WPHT. \n A graduate of Temple University in North Philadelphia\, Steve Cordasco is a Registered Financial Advisor with RBC Wealth Management a member of the NYSE and SIPC and FINRA. Steve specializes in comprehensive retirement and financial planning and believes "a good investment program is set up to fit an investor's financial needs\, but also considers every risk".\n \n Come out to first meeting of the fall\, network with your fellow members and learn about issues that affect your industry.
X-ALT-DESC;FMTTYPE=text/html:<p>&nbsp\;<strong>PROTECTING ASSETS IN TODAY&rsquo\;S FALTERING ECONOMY</strong><br /> <br /> <strong>Guest Speaker:<br /> STEVE CORDASCO\, Big Money<br /> The Big Talker 1210 AM WPHT</strong><br /> <br /> Join us as the well known radio host of Big Money WPHT1210 AM offers tips on how to navigate the economic challenges gripping the nation.<br /> <br /> Steve will offer a broad view of the national economy\, citing the short and long term impacts on consumers and businesses throughout the region and offering his personal insights on what to expect next.<br /> <br /> Find out what country Steve believes will lead the way out of this financial mess\; what will be the next &ldquo\;bubble&rdquo\;\; who is indirectly manipulating the markets.<br /> <br /> This is a seminar you can&rsquo\;t afford to miss!<br /> <br /> Steve&rsquo\;s practical\, straightforward advice on big money matters propels listener calls and questions on 1210 AM WPHT. <br /> A graduate of Temple University in North Philadelphia\, Steve Cordasco is a Registered Financial Advisor with RBC Wealth Management a member of the NYSE and SIPC and FINRA. Steve specializes in comprehensive retirement and financial planning and believes &quot\;a good investment program is set up to fit an investor&rsquo\;s financial needs\, but also considers every risk&quot\;.<br /> <br /> Come out to first meeting of the fall\, network with your fellow members and learn about issues that affect your industry.</p> <p><u><strong><span style="font-size: 18pt\; text-decoration: none\;">&nbsp\;</span></strong></u></p>
LOCATION:Plaza 3000 Evesham Road Voorhees\, NJ 08043
UID:e.9292.484
SEQUENCE:3
DTSTAMP:20260422T023923Z
URL:https://members.blsj.com/events/details/general-membership-breakfast-meeting-steve-cordasco-host-of-big-money-wpht-1210-guest-speaker-09-16-2009-484
END:VEVENT

END:VCALENDAR
