BEGIN:VCALENDAR
VERSION:2.0
PRODID:-//ChamberMaster//Event Calendar 2.0//EN
METHOD:PUBLISH
X-PUBLISHED-TTL:P3D
REFRESH-INTERVAL:P3D
CALSCALE:GREGORIAN
BEGIN:VEVENT
DTSTART:20100217T170000Z
DTEND:20100217T170000Z
X-MICROSOFT-CDO-ALLDAYEVENT:FALSE
SUMMARY:GENERAL MEMBERSHIP BREAKFAST MEETING - Something for Everyone
DESCRIPTION:February General Membership Breakfast Meeting Date: Wednesday\, February 17th \n Time: 8:00 am - 9:00 am - Sumptuous Buffet Breakfast & Great Networking\n 9:00 am - 10:00 am - Program \n Location: The Mansion on Main Street\, Voorhees\n \n Moderator: Wayne Norris\, Regional Sales Director \n Hanley Wood Market Intelligence\n \n Housing Market Update For 2010\n "Things are looking up in South Jersey.!!"\n   2009 South Jersey New Home Performance Recap   Focus on Q4 \n   Year over Year   Comparisons to Other Areas\n   Trends Moving Into 2010   Sales Pace\, Pricing\, Inventory Guest Panel: NJBA Member Incentive Program   Anthony Bevilacqua\n President\, Anthony & Company\n These new NJBA Member Incentive Programs are now available to all NJBA member companies. Each has been specially designed to provide specific value for your membership dollars. \n THE BUILDER LIABILITY INSURANCE PROGRAM\n AN NJBA MEMBER ONLY DENTAL PROGRAM\n NJBA MEMBER REBATE PROGRAM\n \n Join us and find out how your BLSJ membership is working to save you money!!\n  Codes Update: David Blackwell\, \n Director of Purchasing\, J.S. Hovnanian & Sons\n State of New Jersey Codes: 90 Day Freeze on All New Codes: Fire Sprinklers\; Test of Duct Work\; Climate Zones\; Electrical Panels\; Third Story Type 5A\; Stair Landings\; Inspections 72 hours\; S2958 Fees for Property Tax Relief\;\n NAHB 2012 Codes: Fire Sprinklers\; Location of all Heating Systems\; 7-11 Stairs\; Required Glass on South Side of Homes\; 3" Foam on Exterior of New Homes\; Water the Next New Wave. Environmental Update: Rick Ricciardi\, Marathon Engineering & Environmental Services\n Where is NJDEP Headed with the new Governor & An Overview of Governor Christies \n 8 Executive Orders \n The first four focus on reforming the State's Regulatory Morass: Including directives which impose a State "time of decision" mandate\, create a "Red Tape Review Group"\, and freeze pending state regulations.\n DEP Rules Extended by Gubernatorial Directive: Endangered Plant Species Program\; Coastal Zone Management\; Stormwater Management Standards for Individual Subsurface Sewage Disposal Systems\; Water Supply Allocation Permits\; Technical Requirements for Site Remediation. Mortgage/Lending Update:Jerry Silvi\, Sr. Vice President\, \n 1st Colonial National Bank\, Residential Lending Division\n New Respa Good Faith Estimate Disclosures\, FHA/HUD Guideline Changes\, Deadline for Homebuyer Tax Credit\, Foreclosures and Resets of ARMS Effecting the Market.
X-ALT-DESC;FMTTYPE=text/html:<p style="text-align: center"><strong><font size="4">February General Membership Breakfast Meeting</font></strong></p> <p style="text-align: center"><strong><font size="4">Date: Wednesday\, February 17th <br /> Time: 8:00 am - 9:00 am - Sumptuous Buffet Breakfast &amp\; Great Networking<br /> 9:00 am - 10:00 am - Program <br /> Location: The Mansion on Main Street\, Voorhees<br /> <br /> Moderator: Wayne Norris\, Regional Sales Director <br /> Hanley Wood Market Intelligence<br /> <br /> </font></strong><strong><font size="4"><big>Housing Market Update For 2010<br /> &ldquo\;Things are looking up in South Jersey.!!&rdquo\;</big><br /> </font></strong>&bull\; 2009 South Jersey New Home Performance Recap &bull\; Focus on Q4 <br /> &bull\; Year over Year &bull\; Comparisons to Other Areas<br /> &bull\; Trends Moving Into 2010 &bull\; Sales Pace\, Pricing\, Inventory</p> <p style="text-align: center">Guest Panel:</p> <p style="text-align: center"><span style="font-size: medium"><span style=""><span style=""><big><font size="4"><strong>NJBA Member Incentive Program&nbsp\;&ndash\; Anthony Bevilacqua</strong></font></big></span></span></span><span style="font-size: small"><span style="" /></span><span style="font-size: medium" /><big><font size="4"><br /> </font></big><font size="4"><strong><big>President\, Anthony &amp\; Company</big></strong><br /> <span style="font-size: x-small">These new NJBA Member Incentive Programs are now available to all NJBA member companies. Each has been specially designed to provide specific value for your membership dollars. <br /> THE BUILDER LIABILITY INSURANCE PROGRAM<br /> AN NJBA MEMBER ONLY DENTAL PROGRAM<br /> NJBA MEMBER REBATE PROGRAM<br /> <br /> Join us and find out how your BLSJ membership is working to save you money!!</span><br /> </font></p> <p style="text-align: center"><font size="4"><big><strong>Codes Update: David Blackwell\, <br /> Director of Purchasing\, J.S. Hovnanian &amp\; Sons</strong></big><br /> </font><strong>State of New Jersey Codes:</strong> 90 Day Freeze on All New Codes: Fire Sprinklers\; Test of Duct Work\; Climate Zones\; Electrical Panels\; Third Story Type 5A\; Stair Landings\; Inspections 72 hours\; S2958 Fees for Property Tax Relief\;<br /> <strong>NAHB 2012 Codes:</strong> Fire Sprinklers\; Location of all Heating Systems\; 7-11 Stairs\; Required Glass on South Side of Homes\; 3&rdquo\; Foam on Exterior of New Homes\; Water the Next New Wave.</p> <p style="text-align: center"><font size="4"><big><strong>Environmental Update: Rick Ricciardi\, Marathon Engineering &amp\; Environmental Services</strong></big><br /> </font>Where is NJDEP Headed with the new Governor &amp\; An Overview of Governor Christies <br /> 8 Executive Orders <br /> The first four focus on reforming the State&rsquo\;s Regulatory Morass: Including directives which impose a State &ldquo\;time of decision&rdquo\; mandate\, create a &ldquo\;Red Tape Review Group&rdquo\;\, and freeze pending state regulations.<br /> DEP Rules Extended by Gubernatorial Directive: Endangered Plant Species Program\; Coastal Zone Management\; Stormwater Management Standards for Individual Subsurface Sewage Disposal Systems\; Water Supply Allocation Permits\; Technical Requirements for Site Remediation.</p> <p style="text-align: center"><big><strong><font size="4">Mortgage/Lending Update:Jerry Silvi\, Sr. Vice President\, <br /> 1st Colonial National Bank\, Residential Lending Division<br /> </font></strong></big>New Respa Good Faith Estimate Disclosures\, FHA/HUD Guideline Changes\, Deadline for Homebuyer Tax Credit\, Foreclosures and Resets of ARMS Effecting the Market.<br /> &nbsp\;</p>
LOCATION:Plaza 3000 Main Street Voorhees\, NJ 08034
UID:e.9292.981
SEQUENCE:3
DTSTAMP:20260421T194003Z
URL:https://members.blsj.com/events/details/general-membership-breakfast-meeting-something-for-everyone-02-17-2010-981
END:VEVENT

END:VCALENDAR
