BEGIN:VCALENDAR
VERSION:2.0
PRODID:-//ChamberMaster//Event Calendar 2.0//EN
METHOD:PUBLISH
X-PUBLISHED-TTL:P3D
REFRESH-INTERVAL:P3D
CALSCALE:GREGORIAN
BEGIN:VEVENT
DTSTART:20090520T220000Z
DTEND:20090520T160000Z
X-MICROSOFT-CDO-ALLDAYEVENT:FALSE
SUMMARY:General Membership Breakfast Meeting: HOW BUILDERS CAN BETTER SECURE THEIR LENDING POSITIONS
DESCRIPTION:HOW ARE LENDING INSTITUTIONS MAINTAINING\n NEW AND CURRENT LENDING CLIENTS\n &\n HOW BUILDERS CAN BETTER SECURE THEIR LENDING POSITIONS DURING THESE DIFFICULT TIMES Panelists K.C. Barrett   Wilmington Trust\n Tim O'Rourke   TD Bank\n Robert King -Sterling Bank\n Jack Gangluff   Columbia Bank\n Frank DiMaio - Wells Fargo   Amid a cash crunch in the property market\, what are lenders doing for builders?\n   Are lenders setting tougher conditions on builders seeking fresh money and old loan rollovers? \n   Are lenders releasing funds with strict loan covenants\n   What are banks doing to avert defaults\n   Are lenders raising the asset cover   the security required for the loan   Are you lending now? (Can the bank actually make more loans now?)\n   Under what conditions are you making these loans? (Interest coverage ratios\, etc.)\n   What information do you need to consider my request? \n   What is the time frame usually associated to complete a loan? BLSJ policy requires payment prior to the event or at the door. \n All cancellations MUST BE given in writing at least 72 hours in advance or you will be billed.
X-ALT-DESC;FMTTYPE=text/html:<p style="text-align: center">HOW ARE LENDING INSTITUTIONS MAINTAINING<br /> NEW AND CURRENT LENDING CLIENTS<br /> &amp\;<br /> HOW BUILDERS CAN BETTER SECURE THEIR LENDING POSITIONS DURING THESE DIFFICULT TIMES</p> <p style="text-align: center">Panelists</p> <p style="text-align: center">K.C. Barrett &ndash\; Wilmington Trust<br /> Tim O&rsquo\;Rourke &ndash\; TD Bank<br /> Robert King -Sterling Bank<br /> Jack Gangluff &ndash\; Columbia Bank<br /> Frank DiMaio - Wells Fargo</p> <p style="text-align: center">&bull\; Amid a cash crunch in the property market\, what are lenders doing for builders?<br /> &bull\; Are lenders setting tougher conditions on builders seeking fresh money and old loan rollovers? <br /> &bull\; Are lenders releasing funds with strict loan covenants<br /> &bull\; What are banks doing to avert defaults<br /> &bull\; Are lenders raising the asset cover &mdash\; the security required for the loan</p> <p style="text-align: center">&bull\; Are you lending now? (Can the bank actually make more loans now?)<br /> &bull\; Under what conditions are you making these loans? (Interest coverage ratios\, etc.)<br /> &bull\; What information do you need to consider my request? <br /> &bull\; What is the time frame usually associated to complete a loan?</p> <p style="text-align: center">BLSJ policy requires payment prior to the event or at the door. <br /> All cancellations MUST BE given in writing at least 72 hours in advance or you will be billed.<br /> <br /> &nbsp\;</p>
LOCATION:Plaza 3000 Voorhees\, NJ 08034
UID:e.9292.278
SEQUENCE:3
DTSTAMP:20260422T080538Z
URL:https://members.blsj.com/events/details/general-membership-breakfast-meeting-how-builders-can-better-secure-their-lending-positions-05-20-2009-278
END:VEVENT

END:VCALENDAR
