BEGIN:VCALENDAR
VERSION:2.0
PRODID:-//ChamberMaster//Event Calendar 2.0//EN
METHOD:PUBLISH
X-PUBLISHED-TTL:P3D
REFRESH-INTERVAL:P3D
CALSCALE:GREGORIAN
BEGIN:VEVENT
DTSTART:20050518T160000Z
DTEND:20050518T160000Z
X-MICROSOFT-CDO-ALLDAYEVENT:FALSE
SUMMARY:Gen. Mem. Mtg/Scholarship & Hall of Fame Awards Presentation
DESCRIPTION:The following members will be inducted at the Hall of Fame Dinner and Ceremony on May 18\, 2005 at the Regency Palace in Mt. Laurel:    HALL OF FAME INDUCTEES  1940 - 1969 Class  Builders Herb DuBois\, BLSJ President 1950-51 Harold Sarshik\, BLSJ President 1953-54 Bob Scarborough\, BLSJ President 1959 Max Odlen\, BLSJ President 1956-57 Dick Goodwin\, BLSJ President 1960 Art Stein\, BLSJ President 1964 Martin Price\, BLSJ President 1969 and BLSJ Scholarship Foundation Trustee  Associates Bill Taylor - Taylor Wiseman Taylor Dick Maerz - Philadelphia Inquirer Dave Baird - Haddonfield Lumber\, BLSJ Board of Directors Jim O'Brien Sr. - James T. O'Brien Realty\, BLSJ Board of Directors Joe DeCerbo - Atmostemp\, BLSJ Vice President of Associates\, Life Director and BLSJ Scholarship Foundation Trustee  Non-Member Joe Van Osten\, BLSJ Executive Vice President 1969-1998  The following members will be entered posthumously into the Hall of Fame:  Builders J. Frank Hanley\, BLSJ President 1940-41 Carl Mitnick\, BLSJ President 1949-50 and National Association of Home Builders President 1959 Leon Weiner\, National Association of Home Builders President 1967 Morris Sarshik\, BLSJ President 1948-49 Charles Gemberling\, BLSJ President 1952-53 Blase Ravikio\, BLSJ President 1955-56 and BLSJ Scholarship Foundation Trustee Bob Nyce\, BLSJ President 1963 Walt Riley Jr.\, BLSJ President 1966  Associates Earl Applegate - Taylor Wiseman Taylor\, BLSJ Lifetime Director and BLSJ Scholarship Trustee Alex Feinberg- BLSJ Legal Counsel
X-ALT-DESC;FMTTYPE=text/html:The following members will be inducted at the Hall of Fame Dinner and Ceremony on May 18\, 2005 at the Regency Palace in Mt. Laurel:    HALL OF FAME INDUCTEES  1940 - 1969 Class  Builders Herb DuBois\, BLSJ President 1950-51 Harold Sarshik\, BLSJ President 1953-54 Bob Scarborough\, BLSJ President 1959 Max Odlen\, BLSJ President 1956-57 Dick Goodwin\, BLSJ President 1960 Art Stein\, BLSJ President 1964 Martin Price\, BLSJ President 1969 and BLSJ Scholarship Foundation Trustee  Associates Bill Taylor - Taylor Wiseman Taylor Dick Maerz - Philadelphia Inquirer Dave Baird - Haddonfield Lumber\, BLSJ Board of Directors Jim O'Brien Sr. - James T. O'Brien Realty\, BLSJ Board of Directors Joe DeCerbo - Atmostemp\, BLSJ Vice President of Associates\, Life Director and BLSJ Scholarship Foundation Trustee  Non-Member Joe Van Osten\, BLSJ Executive Vice President 1969-1998  The following members will be entered posthumously into the Hall of Fame:  Builders J. Frank Hanley\, BLSJ President 1940-41 Carl Mitnick\, BLSJ President 1949-50 and National Association of Home Builders President 1959 Leon Weiner\, National Association of Home Builders President 1967 Morris Sarshik\, BLSJ President 1948-49 Charles Gemberling\, BLSJ President 1952-53 Blase Ravikio\, BLSJ President 1955-56 and BLSJ Scholarship Foundation Trustee Bob Nyce\, BLSJ President 1963 Walt Riley Jr.\, BLSJ President 1966  Associates Earl Applegate - Taylor Wiseman Taylor\, BLSJ Lifetime Director and BLSJ Scholarship Trustee Alex Feinberg- BLSJ Legal Counsel 
LOCATION:Regency Palace Rte 73 & Fellowship Rd Mt. Laurel\, NJ 08053
UID:e.9292.1141
SEQUENCE:3
DTSTAMP:20260421T005244Z
URL:https://members.blsj.com/events/details/gen-mem-mtg-scholarship-hall-of-fame-awards-presentation-05-18-2005-1141
END:VEVENT

END:VCALENDAR
