BEGIN:VCALENDAR
VERSION:2.0
PRODID:-//ChamberMaster//Event Calendar 2.0//EN
METHOD:PUBLISH
X-PUBLISHED-TTL:P3D
REFRESH-INTERVAL:P3D
CALSCALE:GREGORIAN
BEGIN:VEVENT
DTSTART:20060720T160000Z
DTEND:20060720T160000Z
X-MICROSOFT-CDO-ALLDAYEVENT:FALSE
SUMMARY:Fundraising Committee Meeting - 07/20/2006
DESCRIPTION:AGENDA:  Presentation on fundraising tips and techniques  Speaker Marc Baum\, Shulman & Associates      Please let Marlene Spencer know if you will be attending
X-ALT-DESC;FMTTYPE=text/html:AGENDA:  Presentation on fundraising tips and techniques  Speaker Marc Baum\, Shulman & Associates      Please let Marlene Spencer know if you will be attending
LOCATION:Builders League Office Cherry Hill\, NJ 08034
UID:e.9292.276
SEQUENCE:3
DTSTAMP:20260421T194131Z
URL:https://members.blsj.com/events/details/fundraising-committee-meeting-07-20-2006-07-20-2006-276
END:VEVENT

END:VCALENDAR
