BEGIN:VCALENDAR
VERSION:2.0
PRODID:-//ChamberMaster//Event Calendar 2.0//EN
METHOD:PUBLISH
X-PUBLISHED-TTL:P3D
REFRESH-INTERVAL:P3D
CALSCALE:GREGORIAN
BEGIN:VEVENT
DTSTART:20060518T220000Z
DTEND:20060518T220000Z
X-MICROSOFT-CDO-ALLDAYEVENT:FALSE
SUMMARY:Fundraising Committee Meeting - 05/18/2006
DESCRIPTION:AGENDA:  1.   Committee's Description and Function 2.   Membership Contributors 04-through April 28th\, 06 3.   Talking Points and Phone Scripts 4.   Fund Raising Seminar 5.   Committee Volunteers and Rotation 6.   Implementation of Committee
X-ALT-DESC;FMTTYPE=text/html:AGENDA:  1.   Committee's Description and Function 2.   Membership Contributors 04-through April 28th\, 06 3.   Talking Points and Phone Scripts 4.   Fund Raising Seminar 5.   Committee Volunteers and Rotation 6.   Implementation of Committee  
LOCATION:Builders League Office Cherry Hill\, NJ 08034
UID:e.9292.979
SEQUENCE:3
DTSTAMP:20260421T170103Z
URL:https://members.blsj.com/events/details/fundraising-committee-meeting-05-18-2006-05-18-2006-979
END:VEVENT

END:VCALENDAR
